Workbook

Sheet 19426 Астрономия 5 класс
A1: Часовой пояс | B1: Астрахань (МСК+1, UTC+4)
A3: Код | B3: ФИО | C3: Набранные баллы | D3: Максимальный балл | E3: ="Время начала сессии (" & VLOOKUP($B$1,TimeZones!$A$1:$C$28,3,FALSE) & ")" -> Время начала сессии (Астрахань) | F3: ="Время конца сессии (" & VLOOKUP($B$1,TimeZones!$A$1:$C$28,3,FALSE) & ")" -> Время конца сессии (Астрахань) | G3: Статус | H3: Грамота
A4: 19426/edu633737/5/358q368v | B4: Капуш Артём Владимирович | C4: 75 | D4: 80 | E4: =46289.6779744508 + (VLOOKUP($B$1,TimeZones!$A$1:$C$28,2,FALSE))/24 -> 46289.845 | F4: =46289.7001235588 + (VLOOKUP($B$1,TimeZones!$A$1:$C$28,2,FALSE))/24 -> 46289.867
A5: 19426/edu633737/5/327wz38r | B5: Салмина Вероника | C5: 62 | D5: 80 | E5: =46289.7120448132 + (VLOOKUP($B$1,TimeZones!$A$1:$C$28,2,FALSE))/24 -> 46289.879 | F5: =46289.7245299152 + (VLOOKUP($B$1,TimeZones!$A$1:$C$28,2,FALSE))/24 -> 46289.891
A6: 19426/edu633737/5/358q67vq | B6: Янюшкин Артём Александрович | C6: 57.5 | D6: 80 | E6: =46289.6491161059 + (VLOOKUP($B$1,TimeZones!$A$1:$C$28,2,FALSE))/24 -> 46289.816 | F6: =46289.6614071058 + (VLOOKUP($B$1,TimeZones!$A$1:$C$28,2,FALSE))/24 -> 46289.828
A7: 19426/edu633737/5/358qg68v | B7: Быков Игорь Дмитриевич | C7: 55.5 | D7: 80 | E7: =46289.7214067640 + (VLOOKUP($B$1,TimeZones!$A$1:$C$28,2,FALSE))/24 -> 46289.888 | F7: =46289.7333947434 + (VLOOKUP($B$1,TimeZones!$A$1:$C$28,2,FALSE))/24 -> 46289.9
A8: 19426/edu633737/5/358q267v | B8: Калеганова Валерия Александровна | C8: 52 | D8: 80 | E8: =46289.7034120335 + (VLOOKUP($B$1,TimeZones!$A$1:$C$28,2,FALSE))/24 -> 46289.87 | F8: =46289.7136924123 + (VLOOKUP($B$1,TimeZones!$A$1:$C$28,2,FALSE))/24 -> 46289.88
A9: 19426/edu633737/5/6575rz8v | B9: куксов андрей сергеевич | C9: 51.5 | D9: 80 | E9: =46289.5935968762 + (VLOOKUP($B$1,TimeZones!$A$1:$C$28,2,FALSE))/24 -> 46289.76 | F9: =46289.6066061928 + (VLOOKUP($B$1,TimeZones!$A$1:$C$28,2,FALSE))/24 -> 46289.773
A10: 19426/edu633737/5/vw736842 | B10: Мурадова Лейла Орхан Казы | C10: 50.5 | D10: 80 | E10: =46289.7148646947 + (VLOOKUP($B$1,TimeZones!$A$1:$C$28,2,FALSE))/24 -> 46289.882 | F10: =46289.7305481011 + (VLOOKUP($B$1,TimeZones!$A$1:$C$28,2,FALSE))/24 -> 46289.897
A11: 19426/edu633737/5/r4892753 | B11: Аксенов Ильдар Рустямович | C11: 41 | D11: 80 | E11: =46289.7014569162 + (VLOOKUP($B$1,TimeZones!$A$1:$C$28,2,FALSE))/24 -> 46289.868 | F11: =46289.7225832919 + (VLOOKUP($B$1,TimeZones!$A$1:$C$28,2,FALSE))/24 -> 46289.889
A12: 19426/edu633737/5/r489z275 | B12: Першина Анастасия Сергеевна | C12: 29.5 | D12: 80 | E12: =46289.4971311751 + (VLOOKUP($B$1,TimeZones!$A$1:$C$28,2,FALSE))/24 -> 46289.664 | F12: =46289.5068219062 + (VLOOKUP($B$1,TimeZones!$A$1:$C$28,2,FALSE))/24 -> 46289.673
A13: 19426/edu633737/5/gr7vqq86 | B13: Голубчикова Екатерина Павловна | C13: 28.5 | D13: 80 | E13: =46289.6653206280 + (VLOOKUP($B$1,TimeZones!$A$1:$C$28,2,FALSE))/24 -> 46289.832 | F13: =46289.6751555028 + (VLOOKUP($B$1,TimeZones!$A$1:$C$28,2,FALSE))/24 -> 46289.842
A14: 19426/edu633737/5/3q7rvz7z | B14: Кольцов Михаил Дмитриевич | C14: 28.5 | D14: 80 | E14: =46289.5299577308 + (VLOOKUP($B$1,TimeZones!$A$1:$C$28,2,FALSE))/24 -> 46289.697 | F14: =46289.5350021510 + (VLOOKUP($B$1,TimeZones!$A$1:$C$28,2,FALSE))/24 -> 46289.702
A15: 19426/edu633737/5/zr8z9g7v | B15: Северина Софья Николаевна | C15: 17.5 | D15: 80 | E15: =46289.6977059883 + (VLOOKUP($B$1,TimeZones!$A$1:$C$28,2,FALSE))/24 -> 46289.864 | F15: =46289.7080541230 + (VLOOKUP($B$1,TimeZones!$A$1:$C$28,2,FALSE))/24 -> 46289.875
A16: 19426/edu633737/5/r274rr7w | B16: Боклина Милана Сергеевна | C16: 9.5 | D16: 80 | E16: =46289.6746299056 + (VLOOKUP($B$1,TimeZones!$A$1:$C$28,2,FALSE))/24 -> 46289.841 | F16: =46289.6876299711 + (VLOOKUP($B$1,TimeZones!$A$1:$C$28,2,FALSE))/24 -> 46289.854

Sheet 19427 Астрономия 6 класс
A1: Часовой пояс | B1: Астрахань (МСК+1, UTC+4)
A3: Код | B3: ФИО | C3: Набранные баллы | D3: Максимальный балл | E3: ="Время начала сессии (" & VLOOKUP($B$1,TimeZones!$A$1:$C$28,3,FALSE) & ")" -> Время начала сессии (Астрахань) | F3: ="Время конца сессии (" & VLOOKUP($B$1,TimeZones!$A$1:$C$28,3,FALSE) & ")" -> Время конца сессии (Астрахань) | G3: Статус | H3: Грамота
A4: 19427/edu633737/6/zr4z5g78 | B4: Дорошенко Мария Антоновна | C4: 68 | D4: 80 | E4: =46289.6959282169 + (VLOOKUP($B$1,TimeZones!$A$1:$C$28,2,FALSE))/24 -> 46289.863 | F4: =46289.7194528610 + (VLOOKUP($B$1,TimeZones!$A$1:$C$28,2,FALSE))/24 -> 46289.886
A5: 19427/edu633737/6/937v6675 | B5: Кирсанов Максим Александрович | C5: 64 | D5: 80 | E5: =46289.6831069496 + (VLOOKUP($B$1,TimeZones!$A$1:$C$28,2,FALSE))/24 -> 46289.85 | F5: =46289.6922999806 + (VLOOKUP($B$1,TimeZones!$A$1:$C$28,2,FALSE))/24 -> 46289.859
A6: 19427/edu633737/6/qr463375 | B6: Быков Матвей Дмитриевич | C6: 57 | D6: 80 | E6: =46289.6965594213 + (VLOOKUP($B$1,TimeZones!$A$1:$C$28,2,FALSE))/24 -> 46289.863 | F6: =46289.7082739597 + (VLOOKUP($B$1,TimeZones!$A$1:$C$28,2,FALSE))/24 -> 46289.875
A7: 19427/edu633737/6/324w2v7g | B7: Айнулина Валерия Александровна | C7: 53 | D7: 80 | E7: =46289.4931248715 + (VLOOKUP($B$1,TimeZones!$A$1:$C$28,2,FALSE))/24 -> 46289.66 | F7: =46289.5119084003 + (VLOOKUP($B$1,TimeZones!$A$1:$C$28,2,FALSE))/24 -> 46289.679
A8: 19427/edu633737/6/v27rwz46 | B8: Тимошкин Константин Андреевич | C8: 53 | D8: 80 | E8: =46289.7146438256 + (VLOOKUP($B$1,TimeZones!$A$1:$C$28,2,FALSE))/24 -> 46289.881 | F8: =46289.7220086502 + (VLOOKUP($B$1,TimeZones!$A$1:$C$28,2,FALSE))/24 -> 46289.889
A9: 19427/edu633737/6/qr466345 | B9: Черенев Артем Денисович | C9: 52 | D9: 80 | E9: =46289.7059557970 + (VLOOKUP($B$1,TimeZones!$A$1:$C$28,2,FALSE))/24 -> 46289.873 | F9: =46289.7142153090 + (VLOOKUP($B$1,TimeZones!$A$1:$C$28,2,FALSE))/24 -> 46289.881
A10: 19427/edu633737/6/8z758z4r | B10: Лязин Дмитрий Александрович | C10: 49 | D10: 80 | E10: =46289.6982736653 + (VLOOKUP($B$1,TimeZones!$A$1:$C$28,2,FALSE))/24 -> 46289.865 | F10: =46289.7234753487 + (VLOOKUP($B$1,TimeZones!$A$1:$C$28,2,FALSE))/24 -> 46289.89
A11: 19427/edu633737/6/wr78r735 | B11: Махяновна Эльвира Айратовна | C11: 46 | D11: 80 | E11: =46289.7156347156 + (VLOOKUP($B$1,TimeZones!$A$1:$C$28,2,FALSE))/24 -> 46289.882 | F11: =46289.7217057064 + (VLOOKUP($B$1,TimeZones!$A$1:$C$28,2,FALSE))/24 -> 46289.888
A12: 19427/edu633737/6/wr783543 | B12: Ручканов Дмитрий Николаевич | C12: 46 | D12: 80 | E12: =46289.6023859200 + (VLOOKUP($B$1,TimeZones!$A$1:$C$28,2,FALSE))/24 -> 46289.769 | F12: =46289.6230044611 + (VLOOKUP($B$1,TimeZones!$A$1:$C$28,2,FALSE))/24 -> 46289.79
A13: 19427/edu633737/6/937vqq45 | B13: Коновалов Денис Иванович | C13: 45 | D13: 80 | E13: =46289.5447199416 + (VLOOKUP($B$1,TimeZones!$A$1:$C$28,2,FALSE))/24 -> 46289.711 | F13: =46289.5495475639 + (VLOOKUP($B$1,TimeZones!$A$1:$C$28,2,FALSE))/24 -> 46289.716
A14: 19427/edu633737/6/gw49r27r | B14: Кочелаевский Глеб Андреевич | C14: 45 | D14: 80 | E14: =46289.7287908251 + (VLOOKUP($B$1,TimeZones!$A$1:$C$28,2,FALSE))/24 -> 46289.895 | F14: =46289.7347307157 + (VLOOKUP($B$1,TimeZones!$A$1:$C$28,2,FALSE))/24 -> 46289.901
A15: 19427/edu633737/6/8r7gq76w | B15: Гаврилина Диана Олеговна | C15: 44 | D15: 80 | E15: =46289.7054033408 + (VLOOKUP($B$1,TimeZones!$A$1:$C$28,2,FALSE))/24 -> 46289.872 | F15: =46289.7245103101 + (VLOOKUP($B$1,TimeZones!$A$1:$C$28,2,FALSE))/24 -> 46289.891
A16: 19427/edu633737/6/v27rqz46 | B16: Мироненко Максим Иванович | C16: 43 | D16: 80 | E16: =46289.5591721293 + (VLOOKUP($B$1,TimeZones!$A$1:$C$28,2,FALSE))/24 -> 46289.726 | F16: =46289.5732883416 + (VLOOKUP($B$1,TimeZones!$A$1:$C$28,2,FALSE))/24 -> 46289.74
A17: 19427/edu633737/6/v673ww75 | B17: Рамазонова Фотима Файзалиевна | C17: 42 | D17: 80 | E17: =46289.6874725693 + (VLOOKUP($B$1,TimeZones!$A$1:$C$28,2,FALSE))/24 -> 46289.854 | F17: =46289.6983526840 + (VLOOKUP($B$1,TimeZones!$A$1:$C$28,2,FALSE))/24 -> 46289.865
A18: 19427/edu633737/6/q342g679 | B18: Мовсисян Александра Маисовна | C18: 40 | D18: 80 | E18: =46289.6978652502 + (VLOOKUP($B$1,TimeZones!$A$1:$C$28,2,FALSE))/24 -> 46289.865 | F18: =46289.7124515925 + (VLOOKUP($B$1,TimeZones!$A$1:$C$28,2,FALSE))/24 -> 46289.879
A19: 19427/edu633737/6/gw49q24r | B19: Буканова Ульяна Александра | C19: 39 | D19: 80 | E19: =46289.5146381850 + (VLOOKUP($B$1,TimeZones!$A$1:$C$28,2,FALSE))/24 -> 46289.681 | F19: =46289.5250361618 + (VLOOKUP($B$1,TimeZones!$A$1:$C$28,2,FALSE))/24 -> 46289.692
A20: 19427/edu633737/6/324wqv4g | B20: Катунина Софья Андреевна | C20: 39 | D20: 80 | E20: =46289.7364342062 + (VLOOKUP($B$1,TimeZones!$A$1:$C$28,2,FALSE))/24 -> 46289.903 | F20: =46289.7430680123 + (VLOOKUP($B$1,TimeZones!$A$1:$C$28,2,FALSE))/24 -> 46289.91
A21: 19427/edu633737/6/v6735w75 | B21: Новак Дима | C21: 37 | D21: 80 | E21: =46289.6076632547 + (VLOOKUP($B$1,TimeZones!$A$1:$C$28,2,FALSE))/24 -> 46289.774 | F21: =46289.6169028715 + (VLOOKUP($B$1,TimeZones!$A$1:$C$28,2,FALSE))/24 -> 46289.784
A22: 19427/edu633737/6/937vwq45 | B22: Фомичева Мария Владимировна | C22: 36 | D22: 80 | E22: =46289.7260350819 + (VLOOKUP($B$1,TimeZones!$A$1:$C$28,2,FALSE))/24 -> 46289.893 | F22: =46289.7328130012 + (VLOOKUP($B$1,TimeZones!$A$1:$C$28,2,FALSE))/24 -> 46289.899
A23: 19427/edu633737/6/wr783r43 | B23: Фролова Василиса Антоновна | C23: 36 | D23: 80 | E23: =46289.5533536750 + (VLOOKUP($B$1,TimeZones!$A$1:$C$28,2,FALSE))/24 -> 46289.72 | F23: =46289.5602705955 + (VLOOKUP($B$1,TimeZones!$A$1:$C$28,2,FALSE))/24 -> 46289.727
A24: 19427/edu633737/6/gw49w64r | B24: Джалолова Мухиба Джахонгировна | C24: 35 | D24: 80 | E24: =46289.6207544450 + (VLOOKUP($B$1,TimeZones!$A$1:$C$28,2,FALSE))/24 -> 46289.787 | F24: =46289.6297281406 + (VLOOKUP($B$1,TimeZones!$A$1:$C$28,2,FALSE))/24 -> 46289.796
A25: 19427/edu633737/6/qr463752 | B25: Сидорова Ульяна Денисовна | C25: 34 | D25: 80 | E25: =46289.7445255265 + (VLOOKUP($B$1,TimeZones!$A$1:$C$28,2,FALSE))/24 -> 46289.911 | F25: =46289.7500000000 + (VLOOKUP($B$1,TimeZones!$A$1:$C$28,2,FALSE))/24 -> 46289.917
A26: 19427/edu633737/6/q342r649 | B26: Болонина Дарина Вадимовна | C26: 33 | D26: 80 | E26: =46289.6905093993 + (VLOOKUP($B$1,TimeZones!$A$1:$C$28,2,FALSE))/24 -> 46289.857 | F26: =46289.7086466868 + (VLOOKUP($B$1,TimeZones!$A$1:$C$28,2,FALSE))/24 -> 46289.875
A27: 19427/edu633737/6/gw49964r | B27: Петракова Вероника | C27: 33 | D27: 80 | E27: =46289.6944619104 + (VLOOKUP($B$1,TimeZones!$A$1:$C$28,2,FALSE))/24 -> 46289.861 | F27: =46289.7066592364 + (VLOOKUP($B$1,TimeZones!$A$1:$C$28,2,FALSE))/24 -> 46289.873
A28: 19427/edu633737/6/qr46w375 | B28: Кондулуков Артем Сергеевич | C28: 32 | D28: 80 | E28: =46289.6932416576 + (VLOOKUP($B$1,TimeZones!$A$1:$C$28,2,FALSE))/24 -> 46289.86 | F28: =46289.7008883903 + (VLOOKUP($B$1,TimeZones!$A$1:$C$28,2,FALSE))/24 -> 46289.868
A29: 19427/edu633737/6/zr4zg783 | B29: Таджидинов Имрон Мехруллоевич | C29: 31 | D29: 80 | E29: =46289.6506338233 + (VLOOKUP($B$1,TimeZones!$A$1:$C$28,2,FALSE))/24 -> 46289.817 | F29: =46289.6588332881 + (VLOOKUP($B$1,TimeZones!$A$1:$C$28,2,FALSE))/24 -> 46289.825
A30: 19427/edu633737/6/324w8z7g | B30: Воробьев Вадим Александрович | C30: 27 | D30: 80 | E30: =46289.7117273870 + (VLOOKUP($B$1,TimeZones!$A$1:$C$28,2,FALSE))/24 -> 46289.878 | F30: =46289.7301259369 + (VLOOKUP($B$1,TimeZones!$A$1:$C$28,2,FALSE))/24 -> 46289.897
A31: 19427/edu633737/6/v673vw45 | B31: Гарагуля Максим Сергеевич | C31: 27 | D31: 80 | E31: =46289.4838119351 + (VLOOKUP($B$1,TimeZones!$A$1:$C$28,2,FALSE))/24 -> 46289.65 | F31: =46289.5000426446 + (VLOOKUP($B$1,TimeZones!$A$1:$C$28,2,FALSE))/24 -> 46289.667
A32: 19427/edu633737/6/8z75qz7r | B32: Овчарова Алина Сергеевна | C32: 23 | D32: 80 | E32: =46289.6454587194 + (VLOOKUP($B$1,TimeZones!$A$1:$C$28,2,FALSE))/24 -> 46289.812 | F32: =46289.6546475350 + (VLOOKUP($B$1,TimeZones!$A$1:$C$28,2,FALSE))/24 -> 46289.821
A33: 19427/edu633737/6/324wrv7g | B33: Белюкова Елена Андреевич | C33: 22 | D33: 80 | E33: =46289.7154288383 + (VLOOKUP($B$1,TimeZones!$A$1:$C$28,2,FALSE))/24 -> 46289.882 | F33: =46289.7188236428 + (VLOOKUP($B$1,TimeZones!$A$1:$C$28,2,FALSE))/24 -> 46289.885
A34: 19427/edu633737/6/wr78wr43 | B34: Симдянов Тимофей Александрович | C34: 21 | D34: 80 | E34: =46289.6929515229 + (VLOOKUP($B$1,TimeZones!$A$1:$C$28,2,FALSE))/24 -> 46289.86 | F34: =46289.7040099413 + (VLOOKUP($B$1,TimeZones!$A$1:$C$28,2,FALSE))/24 -> 46289.871
A35: 19427/edu633737/6/v673zw45 | B35: Долотовский Данил Сергеевич | C35: 19 | D35: 80 | E35: =46289.7222107825 + (VLOOKUP($B$1,TimeZones!$A$1:$C$28,2,FALSE))/24 -> 46289.889 | F35: =46289.7268933891 + (VLOOKUP($B$1,TimeZones!$A$1:$C$28,2,FALSE))/24 -> 46289.894
A36: 19427/edu633737/6/v27r5z46 | B36: Воронцов Саша Валерьевич | C36: 15 | D36: 80 | E36: =46289.6982897049 + (VLOOKUP($B$1,TimeZones!$A$1:$C$28,2,FALSE))/24 -> 46289.865 | F36: =46289.7041937788 + (VLOOKUP($B$1,TimeZones!$A$1:$C$28,2,FALSE))/24 -> 46289.871
A37: 19427/edu633737/6/q84qww43 | B37: Исенов Серик Мендыгалиевич | C37: 13 | D37: 80 | E37: =46289.7440971839 + (VLOOKUP($B$1,TimeZones!$A$1:$C$28,2,FALSE))/24 -> 46289.911 | F37: =46289.7454788298 + (VLOOKUP($B$1,TimeZones!$A$1:$C$28,2,FALSE))/24 -> 46289.912
A38: 19427/edu633737/6/gw49827r | B38: Горшкова Варвара Евгеньевна | C38: 11 | D38: 80 | E38: =46289.7269814449 + (VLOOKUP($B$1,TimeZones!$A$1:$C$28,2,FALSE))/24 -> 46289.894 | F38: =46289.7286681869 + (VLOOKUP($B$1,TimeZones!$A$1:$C$28,2,FALSE))/24 -> 46289.895
A39: 19427/edu633737/6/937vrq75 | B39: Муминов Олег Евгеньевич | C39: 10 | D39: 80 | E39: =46289.7232400487 + (VLOOKUP($B$1,TimeZones!$A$1:$C$28,2,FALSE))/24 -> 46289.89 | F39: =46289.7254946748 + (VLOOKUP($B$1,TimeZones!$A$1:$C$28,2,FALSE))/24 -> 46289.892
A40: 19427/edu633737/6/qr469375 | B40: Расулова Сура Бахтияровна | C40: 9 | D40: 80 | E40: =46289.4801658574 + (VLOOKUP($B$1,TimeZones!$A$1:$C$28,2,FALSE))/24 -> 46289.647 | F40: =46289.4822635833 + (VLOOKUP($B$1,TimeZones!$A$1:$C$28,2,FALSE))/24 -> 46289.649
A41: 19427/edu633737/6/q342v649 | B41: Цыганов Антон Максимович | C41: 8 | D41: 80 | E41: =46289.5432292903 + (VLOOKUP($B$1,TimeZones!$A$1:$C$28,2,FALSE))/24 -> 46289.71 | F41: =46289.5449497972 + (VLOOKUP($B$1,TimeZones!$A$1:$C$28,2,FALSE))/24 -> 46289.712
A42: 19427/edu633737/6/q84qrv73 | B42: Катков Максим Андреевич | C42: 6 | D42: 80 | E42: =46289.7152089501 + (VLOOKUP($B$1,TimeZones!$A$1:$C$28,2,FALSE))/24 -> 46289.882 | F42: =46289.7167476028 + (VLOOKUP($B$1,TimeZones!$A$1:$C$28,2,FALSE))/24 -> 46289.883
A43: 19427/edu633737/6/v673rw45 | B43: Голиков Глеб Витальевич | C43: 2 | D43: 80 | E43: =46289.6452524345 + (VLOOKUP($B$1,TimeZones!$A$1:$C$28,2,FALSE))/24 -> 46289.812 | F43: =46289.6526207732 + (VLOOKUP($B$1,TimeZones!$A$1:$C$28,2,FALSE))/24 -> 46289.819
A44: 19427/edu633737/6/v27rz76r | B44: Ульянина Анна Алексеевна | C44: 1 | D44: 80 | E44: =46289.7165386544 + (VLOOKUP($B$1,TimeZones!$A$1:$C$28,2,FALSE))/24 -> 46289.883 | F44: =46289.7273098087 + (VLOOKUP($B$1,TimeZones!$A$1:$C$28,2,FALSE))/24 -> 46289.894

Sheet 19428 Астрономия 7 класс
A1: Часовой пояс | B1: Астрахань (МСК+1, UTC+4)
A3: Код | B3: ФИО | C3: Набранные баллы | D3: Максимальный балл | E3: ="Время начала сессии (" & VLOOKUP($B$1,TimeZones!$A$1:$C$28,3,FALSE) & ")" -> Время начала сессии (Астрахань) | F3: ="Время конца сессии (" & VLOOKUP($B$1,TimeZones!$A$1:$C$28,3,FALSE) & ")" -> Время конца сессии (Астрахань) | G3: Статус | H3: Грамота
A4: 19428/edu633737/7/zr8zgwv6 | B4: Дик Георгий Николаевич | C4: 70 | D4: 80 | E4: =46289.5123562455 + (VLOOKUP($B$1,TimeZones!$A$1:$C$28,2,FALSE))/24 -> 46289.679 | F4: =46289.5371508716 + (VLOOKUP($B$1,TimeZones!$A$1:$C$28,2,FALSE))/24 -> 46289.704
A5: 19428/edu633737/7/grwv2qw6 | B5: Ковалева Мария Евгеньевна | C5: 58 | D5: 80 | E5: =46289.5638815502 + (VLOOKUP($B$1,TimeZones!$A$1:$C$28,2,FALSE))/24 -> 46289.731 | F5: =46289.5830366752 + (VLOOKUP($B$1,TimeZones!$A$1:$C$28,2,FALSE))/24 -> 46289.75
A6: 19428/edu633737/7/zr8z5gwv | B6: Королева Виктория Александровна | C6: 58 | D6: 80 | E6: =46289.5043327355 + (VLOOKUP($B$1,TimeZones!$A$1:$C$28,2,FALSE))/24 -> 46289.671 | F6: =46289.5120385078 + (VLOOKUP($B$1,TimeZones!$A$1:$C$28,2,FALSE))/24 -> 46289.679
A7: 19428/edu633737/7/grwv9q86 | B7: Дорогов Егор Алексеевич | C7: 56 | D7: 80 | E7: =46289.6814482131 + (VLOOKUP($B$1,TimeZones!$A$1:$C$28,2,FALSE))/24 -> 46289.848 | F7: =46289.6918711997 + (VLOOKUP($B$1,TimeZones!$A$1:$C$28,2,FALSE))/24 -> 46289.859
A8: 19428/edu633737/7/3qwr5z8r | B8: Назлы Мурадова Орхан кызы | C8: 53 | D8: 80 | E8: =46289.7202030156 + (VLOOKUP($B$1,TimeZones!$A$1:$C$28,2,FALSE))/24 -> 46289.887 | F8: =46289.7323003572 + (VLOOKUP($B$1,TimeZones!$A$1:$C$28,2,FALSE))/24 -> 46289.899
A9: 19428/edu633737/7/q38236wz | B9: Карташёва Алёна Александровна | C9: 50 | D9: 80 | E9: =46289.7281676196 + (VLOOKUP($B$1,TimeZones!$A$1:$C$28,2,FALSE))/24 -> 46289.895 | F9: =46289.7460260869 + (VLOOKUP($B$1,TimeZones!$A$1:$C$28,2,FALSE))/24 -> 46289.913
A10: 19428/edu633737/7/3qwr2zwr | B10: Денисова Ксения Максимовна | C10: 48 | D10: 80 | E10: =46289.4947003174 + (VLOOKUP($B$1,TimeZones!$A$1:$C$28,2,FALSE))/24 -> 46289.661 | F10: =46289.5173539540 + (VLOOKUP($B$1,TimeZones!$A$1:$C$28,2,FALSE))/24 -> 46289.684
A11: 19428/edu633737/7/zr8zvg8v | B11: Завалищина Светлана Владимировна | C11: 48 | D11: 80 | E11: =46289.6770926451 + (VLOOKUP($B$1,TimeZones!$A$1:$C$28,2,FALSE))/24 -> 46289.844 | F11: =46289.6890579222 + (VLOOKUP($B$1,TimeZones!$A$1:$C$28,2,FALSE))/24 -> 46289.856
A12: 19428/edu633737/7/3qwrgz8r | B12: Мелиева Дарья Максимовна | C12: 48 | D12: 80 | E12: =46289.5078790893 + (VLOOKUP($B$1,TimeZones!$A$1:$C$28,2,FALSE))/24 -> 46289.675 | F12: =46289.5153679883 + (VLOOKUP($B$1,TimeZones!$A$1:$C$28,2,FALSE))/24 -> 46289.682
A13: 19428/edu633737/7/q48qz7w2 | B13: Зубова Мирослава Евгеньевна | C13: 47 | D13: 80 | E13: =46289.6570735102 + (VLOOKUP($B$1,TimeZones!$A$1:$C$28,2,FALSE))/24 -> 46289.824 | F13: =46289.6641002742 + (VLOOKUP($B$1,TimeZones!$A$1:$C$28,2,FALSE))/24 -> 46289.831
A14: 19428/edu633737/7/3qwr6zwr | B14: Потапов Александр Александрович | C14: 47 | D14: 80 | E14: =46289.5984422339 + (VLOOKUP($B$1,TimeZones!$A$1:$C$28,2,FALSE))/24 -> 46289.765 | F14: =46289.6095136426 + (VLOOKUP($B$1,TimeZones!$A$1:$C$28,2,FALSE))/24 -> 46289.776
A15: 19428/edu633737/7/q48q5782 | B15: Келейнов Даниил Михайлович | C15: 46 | D15: 80 | E15: =46289.6900078049 + (VLOOKUP($B$1,TimeZones!$A$1:$C$28,2,FALSE))/24 -> 46289.857 | F15: =46289.6978373715 + (VLOOKUP($B$1,TimeZones!$A$1:$C$28,2,FALSE))/24 -> 46289.865
A16: 19428/edu633737/7/zr8z6g8v | B16: Кочелаевская Валерия Денисовна | C16: 46 | D16: 80 | E16: =46289.6825188257 + (VLOOKUP($B$1,TimeZones!$A$1:$C$28,2,FALSE))/24 -> 46289.849 | F16: =46289.6926044498 + (VLOOKUP($B$1,TimeZones!$A$1:$C$28,2,FALSE))/24 -> 46289.859
A17: 19428/edu633737/7/q38268z7 | B17: Митрохина Вероника Алексеевна | C17: 45 | D17: 80 | E17: =46289.5453371066 + (VLOOKUP($B$1,TimeZones!$A$1:$C$28,2,FALSE))/24 -> 46289.712 | F17: =46289.5596112066 + (VLOOKUP($B$1,TimeZones!$A$1:$C$28,2,FALSE))/24 -> 46289.726
A18: 19428/edu633737/7/q48q27w2 | B18: Евсеева Софья Сергеевна | C18: 44 | D18: 80 | E18: =46289.5853269889 + (VLOOKUP($B$1,TimeZones!$A$1:$C$28,2,FALSE))/24 -> 46289.752 | F18: =46289.5953821094 + (VLOOKUP($B$1,TimeZones!$A$1:$C$28,2,FALSE))/24 -> 46289.762
A19: 19428/edu633737/7/g7892w5q | B19: Таджидинов Рустам Мирсаидович | C19: 44 | D19: 80 | E19: =46289.4947507797 + (VLOOKUP($B$1,TimeZones!$A$1:$C$28,2,FALSE))/24 -> 46289.661 | F19: =46289.5010842202 + (VLOOKUP($B$1,TimeZones!$A$1:$C$28,2,FALSE))/24 -> 46289.668
A20: 19428/edu633737/7/5g8633wz | B20: Лазарева Ирина Сергеевна | C20: 43 | D20: 80 | E20: =46289.4985615465 + (VLOOKUP($B$1,TimeZones!$A$1:$C$28,2,FALSE))/24 -> 46289.665 | F20: =46289.5056819056 + (VLOOKUP($B$1,TimeZones!$A$1:$C$28,2,FALSE))/24 -> 46289.672
A21: 19428/edu633737/7/zr8z7gwv | B21: Думина Дарья Александровна | C21: 41 | D21: 80 | E21: =46289.5251704690 + (VLOOKUP($B$1,TimeZones!$A$1:$C$28,2,FALSE))/24 -> 46289.692 | F21: =46289.5362199110 + (VLOOKUP($B$1,TimeZones!$A$1:$C$28,2,FALSE))/24 -> 46289.703
A22: 19428/edu633737/7/42w42rw9 | B22: ГУСЬКОВ Дмитрий Александрович | C22: 40 | D22: 80 | E22: =46289.6652278193 + (VLOOKUP($B$1,TimeZones!$A$1:$C$28,2,FALSE))/24 -> 46289.832 | F22: =46289.6786948229 + (VLOOKUP($B$1,TimeZones!$A$1:$C$28,2,FALSE))/24 -> 46289.845
A23: 19428/edu633737/7/9v8763wq | B23: Макашова Мария Павловна | C23: 40 | D23: 80 | E23: =46289.5539833558 + (VLOOKUP($B$1,TimeZones!$A$1:$C$28,2,FALSE))/24 -> 46289.721 | F23: =46289.5665646260 + (VLOOKUP($B$1,TimeZones!$A$1:$C$28,2,FALSE))/24 -> 46289.733
A24: 19428/edu633737/7/3qwrvzwr | B24: Ивлева Вероника Александровна | C24: 39 | D24: 80 | E24: =46289.6585454185 + (VLOOKUP($B$1,TimeZones!$A$1:$C$28,2,FALSE))/24 -> 46289.825 | F24: =46289.6747714833 + (VLOOKUP($B$1,TimeZones!$A$1:$C$28,2,FALSE))/24 -> 46289.841
A25: 19428/edu633737/7/5g86r38z | B25: Терещенко Богдан Владимирович | C25: 39 | D25: 80 | E25: =46289.6093579437 + (VLOOKUP($B$1,TimeZones!$A$1:$C$28,2,FALSE))/24 -> 46289.776 | F25: =46289.6206124607 + (VLOOKUP($B$1,TimeZones!$A$1:$C$28,2,FALSE))/24 -> 46289.787
A26: 19428/edu633737/7/4zw5qzwr | B26: Быковский Никита Владимирович | C26: 36 | D26: 80 | E26: =46289.5452161375 + (VLOOKUP($B$1,TimeZones!$A$1:$C$28,2,FALSE))/24 -> 46289.712 | F26: =46289.5533242605 + (VLOOKUP($B$1,TimeZones!$A$1:$C$28,2,FALSE))/24 -> 46289.72
A27: 19428/edu633737/7/q48q7782 | B27: Поликронов Николай Романович | C27: 35 | D27: 80 | E27: =46289.5773669357 + (VLOOKUP($B$1,TimeZones!$A$1:$C$28,2,FALSE))/24 -> 46289.744 | F27: =46289.5890999580 + (VLOOKUP($B$1,TimeZones!$A$1:$C$28,2,FALSE))/24 -> 46289.756
A28: 19428/edu633737/7/5g8693wz | B28: Соколова Ксения Евгеньевна | C28: 34 | D28: 80 | E28: =46289.5274135782 + (VLOOKUP($B$1,TimeZones!$A$1:$C$28,2,FALSE))/24 -> 46289.694 | F28: =46289.5396937274 + (VLOOKUP($B$1,TimeZones!$A$1:$C$28,2,FALSE))/24 -> 46289.706
A29: 19428/edu633737/7/q48q782r | B29: Холжуманова Малика Абдурауповна | C29: 34 | D29: 80 | E29: =46289.5011986595 + (VLOOKUP($B$1,TimeZones!$A$1:$C$28,2,FALSE))/24 -> 46289.668 | F29: =46289.5128724190 + (VLOOKUP($B$1,TimeZones!$A$1:$C$28,2,FALSE))/24 -> 46289.68
A30: 19428/edu633737/7/4rwg5qw7 | B30: Зубова Аделина Евгеньевна | C30: 31 | D30: 80 | E30: =46289.5388868840 + (VLOOKUP($B$1,TimeZones!$A$1:$C$28,2,FALSE))/24 -> 46289.706 | F30: =46289.5560291423 + (VLOOKUP($B$1,TimeZones!$A$1:$C$28,2,FALSE))/24 -> 46289.723
A31: 19428/edu633737/7/3qwr7z8r | B31: Галиева Эвелина Ренатовна | C31: 30 | D31: 80 | E31: =46289.6089468760 + (VLOOKUP($B$1,TimeZones!$A$1:$C$28,2,FALSE))/24 -> 46289.776 | F31: =46289.6163868481 + (VLOOKUP($B$1,TimeZones!$A$1:$C$28,2,FALSE))/24 -> 46289.783
A32: 19428/edu633737/7/v6w3z782 | B32: Индеров Юрий Денисович | C32: 30 | D32: 80 | E32: =46289.6773033041 + (VLOOKUP($B$1,TimeZones!$A$1:$C$28,2,FALSE))/24 -> 46289.844 | F32: =46289.6817336167 + (VLOOKUP($B$1,TimeZones!$A$1:$C$28,2,FALSE))/24 -> 46289.848
A33: 19428/edu633737/7/5g86v38z | B33: Протасов Глеб Сергеевич | C33: 30 | D33: 80 | E33: =46289.6427704815 + (VLOOKUP($B$1,TimeZones!$A$1:$C$28,2,FALSE))/24 -> 46289.809 | F33: =46289.6488419657 + (VLOOKUP($B$1,TimeZones!$A$1:$C$28,2,FALSE))/24 -> 46289.816
A34: 19428/edu633737/7/v6w3r782 | B34: Тебенькова Анна Владимировна | C34: 30 | D34: 80 | E34: =46289.7022105984 + (VLOOKUP($B$1,TimeZones!$A$1:$C$28,2,FALSE))/24 -> 46289.869 | F34: =46289.7122266251 + (VLOOKUP($B$1,TimeZones!$A$1:$C$28,2,FALSE))/24 -> 46289.879
A35: 19428/edu633737/7/3qwrzwr6 | B35: Зяблова Виктория Сергеевна | C35: 29 | D35: 80 | E35: =46289.7324214193 + (VLOOKUP($B$1,TimeZones!$A$1:$C$28,2,FALSE))/24 -> 46289.899 | F35: =46289.7407182776 + (VLOOKUP($B$1,TimeZones!$A$1:$C$28,2,FALSE))/24 -> 46289.907
A36: 19428/edu633737/7/4rwgrq87 | B36: Селищев Захар Александрович | C36: 29 | D36: 80 | E36: =46289.5533791280 + (VLOOKUP($B$1,TimeZones!$A$1:$C$28,2,FALSE))/24 -> 46289.72 | F36: =46289.5622151584 + (VLOOKUP($B$1,TimeZones!$A$1:$C$28,2,FALSE))/24 -> 46289.729
A37: 19428/edu633737/7/5g8673wz | B37: Сильченко Анна Андреевна | C37: 21 | D37: 80 | E37: =46289.4923297784 + (VLOOKUP($B$1,TimeZones!$A$1:$C$28,2,FALSE))/24 -> 46289.659 | F37: =46289.5009641976 + (VLOOKUP($B$1,TimeZones!$A$1:$C$28,2,FALSE))/24 -> 46289.668
A38: 19428/edu633737/7/v6w36782 | B38: Бадьярова Эллина Алексеевна | C38: 14 | D38: 80 | E38: =46289.7478830594 + (VLOOKUP($B$1,TimeZones!$A$1:$C$28,2,FALSE))/24 -> 46289.915 | F38: =46289.7500000000 + (VLOOKUP($B$1,TimeZones!$A$1:$C$28,2,FALSE))/24 -> 46289.917
A39: 19428/edu633737/7/3qwrqz8r | B39: Трячков Николай Евгеньевич | C39: 4 | D39: 80 | E39: =46289.6790013824 + (VLOOKUP($B$1,TimeZones!$A$1:$C$28,2,FALSE))/24 -> 46289.846 | F39: =46289.6828919347 + (VLOOKUP($B$1,TimeZones!$A$1:$C$28,2,FALSE))/24 -> 46289.85
A40: 19428/edu633737/7/42w4rrw9 | B40: Юдин Валерий Александрович | C40: 0 | D40: 80 | E40: =46289.7499801099 + (VLOOKUP($B$1,TimeZones!$A$1:$C$28,2,FALSE))/24 -> 46289.917 | F40: =46289.7500000000 + (VLOOKUP($B$1,TimeZones!$A$1:$C$28,2,FALSE))/24 -> 46289.917

Sheet 19429 Астрономия 8 класс
A1: Часовой пояс | B1: Астрахань (МСК+1, UTC+4)
A3: Код | B3: ФИО | C3: Набранные баллы | D3: Максимальный балл | E3: ="Время начала сессии (" & VLOOKUP($B$1,TimeZones!$A$1:$C$28,3,FALSE) & ")" -> Время начала сессии (Астрахань) | F3: ="Время конца сессии (" & VLOOKUP($B$1,TimeZones!$A$1:$C$28,3,FALSE) & ")" -> Время конца сессии (Астрахань) | G3: Статус | H3: Грамота
A4: 19429/edu633737/8/8r6grq4q | B4: Гурьева Серафима Алексеевна | C4: 78 | D4: 80 | E4: =46289.6838122810 + (VLOOKUP($B$1,TimeZones!$A$1:$C$28,2,FALSE))/24 -> 46289.85 | F4: =46289.7008105585 + (VLOOKUP($B$1,TimeZones!$A$1:$C$28,2,FALSE))/24 -> 46289.867
A5: 19429/edu633737/8/9v47r362 | B5: Бондарь Илья Алексеевич | C5: 76 | D5: 80 | E5: =46289.6877448791 + (VLOOKUP($B$1,TimeZones!$A$1:$C$28,2,FALSE))/24 -> 46289.854 | F5: =46289.7089351012 + (VLOOKUP($B$1,TimeZones!$A$1:$C$28,2,FALSE))/24 -> 46289.876
A6: 19429/edu633737/8/vr68r67g | B6: Шохрай Анастасия Владимировна | C6: 74 | D6: 80 | E6: =46289.5951059796 + (VLOOKUP($B$1,TimeZones!$A$1:$C$28,2,FALSE))/24 -> 46289.762 | F6: =46289.6112385735 + (VLOOKUP($B$1,TimeZones!$A$1:$C$28,2,FALSE))/24 -> 46289.778
A7: 19429/edu633737/8/75652z4q | B7: Ястребов Даниил Никитич | C7: 72 | D7: 80 | E7: =46289.5679868391 + (VLOOKUP($B$1,TimeZones!$A$1:$C$28,2,FALSE))/24 -> 46289.735 | F7: =46289.5870950334 + (VLOOKUP($B$1,TimeZones!$A$1:$C$28,2,FALSE))/24 -> 46289.754
A8: 19429/edu633737/8/8r6ggq6q | B8: Ровный Артём Станиславович | C8: 64 | D8: 80 | E8: =46289.6319196896 + (VLOOKUP($B$1,TimeZones!$A$1:$C$28,2,FALSE))/24 -> 46289.799 | F8: =46289.6409584509 + (VLOOKUP($B$1,TimeZones!$A$1:$C$28,2,FALSE))/24 -> 46289.808
A9: 19429/edu633737/8/326w3365 | B9: Козьма Виктория Дмитриевна | C9: 63 | D9: 80 | E9: =46289.7123456474 + (VLOOKUP($B$1,TimeZones!$A$1:$C$28,2,FALSE))/24 -> 46289.879 | F9: =46289.7351930946 + (VLOOKUP($B$1,TimeZones!$A$1:$C$28,2,FALSE))/24 -> 46289.902
A10: 19429/edu633737/8/zr4z7g63 | B10: Маркина Анастасия Владимировна | C10: 63 | D10: 80 | E10: =46289.5992431136 + (VLOOKUP($B$1,TimeZones!$A$1:$C$28,2,FALSE))/24 -> 46289.766 | F10: =46289.6135619956 + (VLOOKUP($B$1,TimeZones!$A$1:$C$28,2,FALSE))/24 -> 46289.78
A11: 19429/edu633737/8/8r6g7q6q | B11: Каткасова Виктория Викторовна | C11: 61 | D11: 80 | E11: =46289.6680940736 + (VLOOKUP($B$1,TimeZones!$A$1:$C$28,2,FALSE))/24 -> 46289.835 | F11: =46289.6782844908 + (VLOOKUP($B$1,TimeZones!$A$1:$C$28,2,FALSE))/24 -> 46289.845
A12: 19429/edu633737/8/r849324v | B12: решетова мария олеговна | C12: 61 | D12: 80 | E12: =46289.6460758450 + (VLOOKUP($B$1,TimeZones!$A$1:$C$28,2,FALSE))/24 -> 46289.813 | F12: =46289.6594820882 + (VLOOKUP($B$1,TimeZones!$A$1:$C$28,2,FALSE))/24 -> 46289.826
A13: 19429/edu633737/8/326wz345 | B13: Канцерова Яна Вячеславовна | C13: 58 | D13: 80 | E13: =46289.4959891849 + (VLOOKUP($B$1,TimeZones!$A$1:$C$28,2,FALSE))/24 -> 46289.663 | F13: =46289.5284715574 + (VLOOKUP($B$1,TimeZones!$A$1:$C$28,2,FALSE))/24 -> 46289.695
A14: 19429/edu633737/8/326w365v | B14: Соловых Ульяна Сергеевна | C14: 54 | D14: 80 | E14: =46289.5454280666 + (VLOOKUP($B$1,TimeZones!$A$1:$C$28,2,FALSE))/24 -> 46289.712 | F14: =46289.5800938244 + (VLOOKUP($B$1,TimeZones!$A$1:$C$28,2,FALSE))/24 -> 46289.747
A15: 19429/edu633737/8/9v47v362 | B15: Голяков Алексей Павлович | C15: 51 | D15: 80 | E15: =46289.4949019813 + (VLOOKUP($B$1,TimeZones!$A$1:$C$28,2,FALSE))/24 -> 46289.662 | F15: =46289.5202441652 + (VLOOKUP($B$1,TimeZones!$A$1:$C$28,2,FALSE))/24 -> 46289.687
A16: 19429/edu633737/8/r849g24v | B16: Гребнев Михаил Сергеевич | C16: 50 | D16: 80 | E16: =46289.6568103981 + (VLOOKUP($B$1,TimeZones!$A$1:$C$28,2,FALSE))/24 -> 46289.823 | F16: =46289.6767304639 + (VLOOKUP($B$1,TimeZones!$A$1:$C$28,2,FALSE))/24 -> 46289.843
A17: 19429/edu633737/8/936v2q67 | B17: Погодина Милана Максимовна | C17: 50 | D17: 80 | E17: =46289.6993197379 + (VLOOKUP($B$1,TimeZones!$A$1:$C$28,2,FALSE))/24 -> 46289.866 | F17: =46289.7242627910 + (VLOOKUP($B$1,TimeZones!$A$1:$C$28,2,FALSE))/24 -> 46289.891
A18: 19429/edu633737/8/zr4zgg63 | B18: Вьюшкова Софья Александровна | C18: 48 | D18: 80 | E18: =46289.6200679571 + (VLOOKUP($B$1,TimeZones!$A$1:$C$28,2,FALSE))/24 -> 46289.787 | F18: =46289.6318724188 + (VLOOKUP($B$1,TimeZones!$A$1:$C$28,2,FALSE))/24 -> 46289.799
A19: 19429/edu633737/8/r84926v5 | B19: Шамионова Амина Ренатовна | C19: 44 | D19: 80 | E19: =46289.5971246114 + (VLOOKUP($B$1,TimeZones!$A$1:$C$28,2,FALSE))/24 -> 46289.764 | F19: =46289.6164923110 + (VLOOKUP($B$1,TimeZones!$A$1:$C$28,2,FALSE))/24 -> 46289.783
A20: 19429/edu633737/8/r849r26v | B20: Котельникова София Вячеславовна | C20: 43 | D20: 80 | E20: =46289.6576800332 + (VLOOKUP($B$1,TimeZones!$A$1:$C$28,2,FALSE))/24 -> 46289.824 | F20: =46289.6802461285 + (VLOOKUP($B$1,TimeZones!$A$1:$C$28,2,FALSE))/24 -> 46289.847
A21: 19429/edu633737/8/vw6376g2 | B21: Таджидинов Мухаммадамин Мирсаидович | C21: 41 | D21: 80 | E21: =46289.5300211997 + (VLOOKUP($B$1,TimeZones!$A$1:$C$28,2,FALSE))/24 -> 46289.697 | F21: =46289.5413758394 + (VLOOKUP($B$1,TimeZones!$A$1:$C$28,2,FALSE))/24 -> 46289.708
A22: 19429/edu633737/8/zr4z9g63 | B22: Янюшкин Денис Александрович | C22: 38 | D22: 80 | E22: =46289.6289808547 + (VLOOKUP($B$1,TimeZones!$A$1:$C$28,2,FALSE))/24 -> 46289.796 | F22: =46289.6442031934 + (VLOOKUP($B$1,TimeZones!$A$1:$C$28,2,FALSE))/24 -> 46289.811
A23: 19429/edu633737/8/326wr345 | B23: Тяпкина Ксения Сергеевна | C23: 37 | D23: 80 | E23: =46289.6460302318 + (VLOOKUP($B$1,TimeZones!$A$1:$C$28,2,FALSE))/24 -> 46289.813 | F23: =46289.6545303451 + (VLOOKUP($B$1,TimeZones!$A$1:$C$28,2,FALSE))/24 -> 46289.821
A24: 19429/edu633737/8/zr4zrg43 | B24: Исенова Алсу Мендыгалиевна | C24: 36 | D24: 80 | E24: =46289.6629146544 + (VLOOKUP($B$1,TimeZones!$A$1:$C$28,2,FALSE))/24 -> 46289.83 | F24: =46289.6832664725 + (VLOOKUP($B$1,TimeZones!$A$1:$C$28,2,FALSE))/24 -> 46289.85
A25: 19429/edu633737/8/354qg74v | B25: Белоусова Виктория Владимировна | C25: 34 | D25: 80 | E25: =46289.6932109911 + (VLOOKUP($B$1,TimeZones!$A$1:$C$28,2,FALSE))/24 -> 46289.86 | F25: =46289.6981010170 + (VLOOKUP($B$1,TimeZones!$A$1:$C$28,2,FALSE))/24 -> 46289.865
A26: 19429/edu633737/8/326w5365 | B26: Дружинин Гордей Николаевичь | C26: 32 | D26: 80 | E26: =46289.7195790515 + (VLOOKUP($B$1,TimeZones!$A$1:$C$28,2,FALSE))/24 -> 46289.886 | F26: =46289.7461778927 + (VLOOKUP($B$1,TimeZones!$A$1:$C$28,2,FALSE))/24 -> 46289.913
A27: 19429/edu633737/8/354q774v | B27: Квасова Дарья Алексеевна | C27: 32 | D27: 80 | E27: =46289.6702996959 + (VLOOKUP($B$1,TimeZones!$A$1:$C$28,2,FALSE))/24 -> 46289.837 | F27: =46289.6793576352 + (VLOOKUP($B$1,TimeZones!$A$1:$C$28,2,FALSE))/24 -> 46289.846
A28: 19429/edu633737/8/q3429w6z | B28: Сумкин Глеб Георгиевич | C28: 31 | D28: 80 | E28: =46289.6573159021 + (VLOOKUP($B$1,TimeZones!$A$1:$C$28,2,FALSE))/24 -> 46289.824 | F28: =46289.6656154998 + (VLOOKUP($B$1,TimeZones!$A$1:$C$28,2,FALSE))/24 -> 46289.832
A29: 19429/edu633737/8/vw63776g | B29: Салютин Ярослав Александрович | C29: 29 | D29: 80 | E29: =46289.4905296825 + (VLOOKUP($B$1,TimeZones!$A$1:$C$28,2,FALSE))/24 -> 46289.657 | F29: =46289.5119799415 + (VLOOKUP($B$1,TimeZones!$A$1:$C$28,2,FALSE))/24 -> 46289.679
A30: 19429/edu633737/8/9v47w342 | B30: Повереннова Алиса Алексеевна | C30: 24 | D30: 80 | E30: =46289.7027104731 + (VLOOKUP($B$1,TimeZones!$A$1:$C$28,2,FALSE))/24 -> 46289.869 | F30: =46289.7081635224 + (VLOOKUP($B$1,TimeZones!$A$1:$C$28,2,FALSE))/24 -> 46289.875
A31: 19429/edu633737/8/v26r7z4w | B31: Князева Софья Александровна | C31: 22 | D31: 80 | E31: =46289.6386151862 + (VLOOKUP($B$1,TimeZones!$A$1:$C$28,2,FALSE))/24 -> 46289.805 | F31: =46289.6552798082 + (VLOOKUP($B$1,TimeZones!$A$1:$C$28,2,FALSE))/24 -> 46289.822
A32: 19429/edu633737/8/8r6gzq4q | B32: Медведев Макар Андреевич | C32: 21 | D32: 80 | E32: =46289.7266845478 + (VLOOKUP($B$1,TimeZones!$A$1:$C$28,2,FALSE))/24 -> 46289.893 | F32: =46289.7373008012 + (VLOOKUP($B$1,TimeZones!$A$1:$C$28,2,FALSE))/24 -> 46289.904
A33: 19429/edu633737/8/354q374v | B33: Самойлов Арсений Витальевич | C33: 21 | D33: 80 | E33: =46289.6807264614 + (VLOOKUP($B$1,TimeZones!$A$1:$C$28,2,FALSE))/24 -> 46289.847 | F33: =46289.7029842308 + (VLOOKUP($B$1,TimeZones!$A$1:$C$28,2,FALSE))/24 -> 46289.87
A34: 19429/edu633737/8/936v3q47 | B34: Волков Иван | C34: 20 | D34: 80 | E34: =46289.6036090335 + (VLOOKUP($B$1,TimeZones!$A$1:$C$28,2,FALSE))/24 -> 46289.77 | F34: =46289.6154603656 + (VLOOKUP($B$1,TimeZones!$A$1:$C$28,2,FALSE))/24 -> 46289.782
A35: 19429/edu633737/8/v26rgz4w | B35: Голубчиков Павел Александрович | C35: 20 | D35: 80 | E35: =46289.6594853521 + (VLOOKUP($B$1,TimeZones!$A$1:$C$28,2,FALSE))/24 -> 46289.826 | F35: =46289.6643329568 + (VLOOKUP($B$1,TimeZones!$A$1:$C$28,2,FALSE))/24 -> 46289.831
A36: 19429/edu633737/8/936vrq67 | B36: Макеев Кирилл Михайлович | C36: 20 | D36: 80 | E36: =46289.6344535254 + (VLOOKUP($B$1,TimeZones!$A$1:$C$28,2,FALSE))/24 -> 46289.801 | F36: =46289.6550078181 + (VLOOKUP($B$1,TimeZones!$A$1:$C$28,2,FALSE))/24 -> 46289.822
A37: 19429/edu633737/8/zr4z5g63 | B37: Панарин Матвей Павлович | C37: 20 | D37: 80 | E37: =46289.6511965499 + (VLOOKUP($B$1,TimeZones!$A$1:$C$28,2,FALSE))/24 -> 46289.818 | F37: =46289.6612808339 + (VLOOKUP($B$1,TimeZones!$A$1:$C$28,2,FALSE))/24 -> 46289.828
A38: 19429/edu633737/8/9v475342 | B38: Панкратова Анастасия Сергеевна | C38: 20 | D38: 80 | E38: =46289.6497553961 + (VLOOKUP($B$1,TimeZones!$A$1:$C$28,2,FALSE))/24 -> 46289.816 | F38: =46289.6508266929 + (VLOOKUP($B$1,TimeZones!$A$1:$C$28,2,FALSE))/24 -> 46289.817
A39: 19429/edu633737/8/8r6g2q4q | B39: Балин Сергей | C39: 18 | D39: 80 | E39: =46289.6305131515 + (VLOOKUP($B$1,TimeZones!$A$1:$C$28,2,FALSE))/24 -> 46289.797 | F39: =46289.6355249480 + (VLOOKUP($B$1,TimeZones!$A$1:$C$28,2,FALSE))/24 -> 46289.802
A40: 19429/edu633737/8/8r6g5q6q | B40: Бондарев Макар Дмитриевич | C40: 16 | D40: 80 | E40: =46289.5108674894 + (VLOOKUP($B$1,TimeZones!$A$1:$C$28,2,FALSE))/24 -> 46289.678 | F40: =46289.5137774800 + (VLOOKUP($B$1,TimeZones!$A$1:$C$28,2,FALSE))/24 -> 46289.68
A41: 19429/edu633737/8/7565rz4q | B41: Нуриахметова Диана Дмитриевна | C41: 16 | D41: 80 | E41: =46289.5272038535 + (VLOOKUP($B$1,TimeZones!$A$1:$C$28,2,FALSE))/24 -> 46289.694 | F41: =46289.5688705202 + (VLOOKUP($B$1,TimeZones!$A$1:$C$28,2,FALSE))/24 -> 46289.736
A42: 19429/edu633737/8/9v47z362 | B42: Белова София Сергеевна | C42: 14 | D42: 80 | E42: =46289.5261652548 + (VLOOKUP($B$1,TimeZones!$A$1:$C$28,2,FALSE))/24 -> 46289.693 | F42: =46289.5312362780 + (VLOOKUP($B$1,TimeZones!$A$1:$C$28,2,FALSE))/24 -> 46289.698
A43: 19429/edu633737/8/936vq475 | B43: Зверев Артем Максимович | C43: 13 | D43: 80 | E43: =46289.6755664053 + (VLOOKUP($B$1,TimeZones!$A$1:$C$28,2,FALSE))/24 -> 46289.842 | F43: =46289.6774760882 + (VLOOKUP($B$1,TimeZones!$A$1:$C$28,2,FALSE))/24 -> 46289.844
A44: 19429/edu633737/8/vw63v74g | B44: Рытов Иван Алексеевич | C44: 6 | D44: 80 | E44: =46289.5413225708 + (VLOOKUP($B$1,TimeZones!$A$1:$C$28,2,FALSE))/24 -> 46289.708 | F44: =46289.5829892374 + (VLOOKUP($B$1,TimeZones!$A$1:$C$28,2,FALSE))/24 -> 46289.75
A45: 19429/edu633737/8/75658z4q | B45: Махмудов Исмаел Махир оглы | C45: 5 | D45: 80 | E45: =46289.6631254456 + (VLOOKUP($B$1,TimeZones!$A$1:$C$28,2,FALSE))/24 -> 46289.83 | F45: =46289.7047921123 + (VLOOKUP($B$1,TimeZones!$A$1:$C$28,2,FALSE))/24 -> 46289.871

Sheet 19430 Астрономия 9 класс
A1: Часовой пояс | B1: Астрахань (МСК+1, UTC+4)
A3: Код | B3: ФИО | C3: Набранные баллы | D3: Максимальный балл | E3: ="Время начала сессии (" & VLOOKUP($B$1,TimeZones!$A$1:$C$28,3,FALSE) & ")" -> Время начала сессии (Астрахань) | F3: ="Время конца сессии (" & VLOOKUP($B$1,TimeZones!$A$1:$C$28,3,FALSE) & ")" -> Время конца сессии (Астрахань) | G3: Статус | H3: Грамота
A4: 19430/edu633737/9/q372r679 | B4: Хасанова Ева Тимуровна | C4: 88 | D4: 100 | E4: =46289.5156473290 + (VLOOKUP($B$1,TimeZones!$A$1:$C$28,2,FALSE))/24 -> 46289.682 | F4: =46289.5541265171 + (VLOOKUP($B$1,TimeZones!$A$1:$C$28,2,FALSE))/24 -> 46289.721
A5: 19430/edu633737/9/gw795275 | B5: Уткина Юля Ивановна | C5: 87 | D5: 100 | E5: =46289.6064616968 + (VLOOKUP($B$1,TimeZones!$A$1:$C$28,2,FALSE))/24 -> 46289.773 | F5: =46289.6352434644 + (VLOOKUP($B$1,TimeZones!$A$1:$C$28,2,FALSE))/24 -> 46289.802
A6: 19430/edu633737/9/4r8g2q76 | B6: Дуденкова Мария Сергеевна | C6: 75 | D6: 100 | E6: =46289.6909587468 + (VLOOKUP($B$1,TimeZones!$A$1:$C$28,2,FALSE))/24 -> 46289.858 | F6: =46289.7316058350 + (VLOOKUP($B$1,TimeZones!$A$1:$C$28,2,FALSE))/24 -> 46289.898
A7: 19430/edu633737/9/3q8rwz75 | B7: Золотов Кирилл Дмитриевич | C7: 73 | D7: 100 | E7: =46289.6843773519 + (VLOOKUP($B$1,TimeZones!$A$1:$C$28,2,FALSE))/24 -> 46289.851 | F7: =46289.7029072931 + (VLOOKUP($B$1,TimeZones!$A$1:$C$28,2,FALSE))/24 -> 46289.87
A8: 19430/edu633737/9/zr7z5g84 | B8: Неъматуллоев Хайрулло Лутфуллоевич | C8: 73 | D8: 100 | E8: =46289.7155981006 + (VLOOKUP($B$1,TimeZones!$A$1:$C$28,2,FALSE))/24 -> 46289.882 | F8: =46289.7469049516 + (VLOOKUP($B$1,TimeZones!$A$1:$C$28,2,FALSE))/24 -> 46289.914
A9: 19430/edu633737/9/q372g689 | B9: Новикова Кристина Александровна | C9: 65 | D9: 100 | E9: =46289.6999092073 + (VLOOKUP($B$1,TimeZones!$A$1:$C$28,2,FALSE))/24 -> 46289.867 | F9: =46289.7186604289 + (VLOOKUP($B$1,TimeZones!$A$1:$C$28,2,FALSE))/24 -> 46289.885
A10: 19430/edu633737/9/4r8gzq76 | B10: Жуплатова Настя Александровна | C10: 64 | D10: 100 | E10: =46289.5359660052 + (VLOOKUP($B$1,TimeZones!$A$1:$C$28,2,FALSE))/24 -> 46289.703 | F10: =46289.5489139587 + (VLOOKUP($B$1,TimeZones!$A$1:$C$28,2,FALSE))/24 -> 46289.716
A11: 19430/edu633737/9/4r8gwq86 | B11: николаенко дарья романовна | C11: 62 | D11: 100 | E11: =46289.5417500685 + (VLOOKUP($B$1,TimeZones!$A$1:$C$28,2,FALSE))/24 -> 46289.708 | F11: =46289.5554754997 + (VLOOKUP($B$1,TimeZones!$A$1:$C$28,2,FALSE))/24 -> 46289.722
A12: 19430/edu633737/9/5g76g389 | B12: Артюхина Злата Сергеевна | C12: 61 | D12: 100 | E12: =46289.6900582067 + (VLOOKUP($B$1,TimeZones!$A$1:$C$28,2,FALSE))/24 -> 46289.857 | F12: =46289.6996937931 + (VLOOKUP($B$1,TimeZones!$A$1:$C$28,2,FALSE))/24 -> 46289.866
A13: 19430/edu633737/9/5g762379 | B13: Моисеева Анастасия Денисовна | C13: 60 | D13: 100 | E13: =46289.5765339696 + (VLOOKUP($B$1,TimeZones!$A$1:$C$28,2,FALSE))/24 -> 46289.743 | F13: =46289.5887918778 + (VLOOKUP($B$1,TimeZones!$A$1:$C$28,2,FALSE))/24 -> 46289.755
A14: 19430/edu633737/9/q372w689 | B14: Трофимов Михаил Дмитриевич | C14: 59 | D14: 100 | E14: =46289.5243079896 + (VLOOKUP($B$1,TimeZones!$A$1:$C$28,2,FALSE))/24 -> 46289.691 | F14: =46289.5414109194 + (VLOOKUP($B$1,TimeZones!$A$1:$C$28,2,FALSE))/24 -> 46289.708
A15: 19430/edu633737/9/q372679w | B15: Шамсутдинова вероника ринатовна | C15: 59 | D15: 100 | E15: =46289.5204963013 + (VLOOKUP($B$1,TimeZones!$A$1:$C$28,2,FALSE))/24 -> 46289.687 | F15: =46289.5337030816 + (VLOOKUP($B$1,TimeZones!$A$1:$C$28,2,FALSE))/24 -> 46289.7
A16: 19430/edu633737/9/zr7zgg84 | B16: Королева Станислава Максимовна | C16: 56 | D16: 100 | E16: =46289.7306977604 + (VLOOKUP($B$1,TimeZones!$A$1:$C$28,2,FALSE))/24 -> 46289.897 | F16: =46289.7497925053 + (VLOOKUP($B$1,TimeZones!$A$1:$C$28,2,FALSE))/24 -> 46289.916
A17: 19430/edu633737/9/5g76r379 | B17: шамсутдинова диана ринатовна | C17: 54 | D17: 100 | E17: =46289.5203786032 + (VLOOKUP($B$1,TimeZones!$A$1:$C$28,2,FALSE))/24 -> 46289.687 | F17: =46289.5336270414 + (VLOOKUP($B$1,TimeZones!$A$1:$C$28,2,FALSE))/24 -> 46289.7
A18: 19430/edu633737/9/gr8vqq76 | B18: Гришина Валерия Александровна | C18: 53 | D18: 100 | E18: =46289.6713406893 + (VLOOKUP($B$1,TimeZones!$A$1:$C$28,2,FALSE))/24 -> 46289.838 | F18: =46289.6988147914 + (VLOOKUP($B$1,TimeZones!$A$1:$C$28,2,FALSE))/24 -> 46289.865
A19: 19430/edu633737/9/4z85rz7v | B19: Милушкин Сергей Викторович | C19: 53 | D19: 100 | E19: =46289.6714369340 + (VLOOKUP($B$1,TimeZones!$A$1:$C$28,2,FALSE))/24 -> 46289.838 | F19: =46289.6843289178 + (VLOOKUP($B$1,TimeZones!$A$1:$C$28,2,FALSE))/24 -> 46289.851
A20: 19430/edu633737/9/zr7zg843 | B20: Дорофеев Семён Александрович | C20: 51 | D20: 100 | E20: =46289.5932842307 + (VLOOKUP($B$1,TimeZones!$A$1:$C$28,2,FALSE))/24 -> 46289.76 | F20: =46289.6137578720 + (VLOOKUP($B$1,TimeZones!$A$1:$C$28,2,FALSE))/24 -> 46289.78
A21: 19430/edu633737/9/r2846r8v | B21: Илясова Александра Денисовна | C21: 48 | D21: 100 | E21: =46289.6441484095 + (VLOOKUP($B$1,TimeZones!$A$1:$C$28,2,FALSE))/24 -> 46289.811 | F21: =46289.6534255518 + (VLOOKUP($B$1,TimeZones!$A$1:$C$28,2,FALSE))/24 -> 46289.82
A22: 19430/edu633737/9/5g76w389 | B22: Балонов Владимир Сергеевич | C22: 46 | D22: 100 | E22: =46289.6656656197 + (VLOOKUP($B$1,TimeZones!$A$1:$C$28,2,FALSE))/24 -> 46289.832 | F22: =46289.6853906996 + (VLOOKUP($B$1,TimeZones!$A$1:$C$28,2,FALSE))/24 -> 46289.852
A23: 19430/edu633737/9/q47qgw73 | B23: Мироненко Ксения Ивановна | C23: 46 | D23: 100 | E23: =46289.7326293549 + (VLOOKUP($B$1,TimeZones!$A$1:$C$28,2,FALSE))/24 -> 46289.899 | F23: =46289.7500000000 + (VLOOKUP($B$1,TimeZones!$A$1:$C$28,2,FALSE))/24 -> 46289.917
A24: 19430/edu633737/9/3q8rqz75 | B24: Носырева Ксения Сергеевна | C24: 44 | D24: 100 | E24: =46289.5554086488 + (VLOOKUP($B$1,TimeZones!$A$1:$C$28,2,FALSE))/24 -> 46289.722 | F24: =46289.5621084018 + (VLOOKUP($B$1,TimeZones!$A$1:$C$28,2,FALSE))/24 -> 46289.729
A25: 19430/edu633737/9/gw793275 | B25: Тома Виолетта Алексеевна | C25: 37 | D25: 100 | E25: =46289.5513046987 + (VLOOKUP($B$1,TimeZones!$A$1:$C$28,2,FALSE))/24 -> 46289.718 | F25: =46289.5878848491 + (VLOOKUP($B$1,TimeZones!$A$1:$C$28,2,FALSE))/24 -> 46289.755
A26: 19430/edu633737/9/3q8rz854 | B26: Гаврилова Полина Максимовна | C26: 36 | D26: 100 | E26: =46289.7317921325 + (VLOOKUP($B$1,TimeZones!$A$1:$C$28,2,FALSE))/24 -> 46289.898 | F26: =46289.7468150665 + (VLOOKUP($B$1,TimeZones!$A$1:$C$28,2,FALSE))/24 -> 46289.913
A27: 19430/edu633737/9/5g763892 | B27: Корнилаев Артём Аркадьевич | C27: 36 | D27: 100 | E27: =46289.5933444695 + (VLOOKUP($B$1,TimeZones!$A$1:$C$28,2,FALSE))/24 -> 46289.76 | F27: =46289.6068643894 + (VLOOKUP($B$1,TimeZones!$A$1:$C$28,2,FALSE))/24 -> 46289.774
A28: 19430/edu633737/9/327wzv85 | B28: Новак Максим Денисович | C28: 36 | D28: 100 | E28: =46289.5832321547 + (VLOOKUP($B$1,TimeZones!$A$1:$C$28,2,FALSE))/24 -> 46289.75 | F28: =46289.5959038651 + (VLOOKUP($B$1,TimeZones!$A$1:$C$28,2,FALSE))/24 -> 46289.763
A29: 19430/edu633737/9/gr8v3q76 | B29: Япрынцев Илья Павлович | C29: 36 | D29: 100 | E29: =46289.6704487942 + (VLOOKUP($B$1,TimeZones!$A$1:$C$28,2,FALSE))/24 -> 46289.837 | F29: =46289.6781716061 + (VLOOKUP($B$1,TimeZones!$A$1:$C$28,2,FALSE))/24 -> 46289.845
A30: 19430/edu633737/9/gw79285q | B30: Форофонтова Кристина Романовна | C30: 33 | D30: 100 | E30: =46289.6440811475 + (VLOOKUP($B$1,TimeZones!$A$1:$C$28,2,FALSE))/24 -> 46289.811 | F30: =46289.6677892125 + (VLOOKUP($B$1,TimeZones!$A$1:$C$28,2,FALSE))/24 -> 46289.834
A31: 19430/edu633737/9/327wqv75 | B31: Дик Анастасия Николаевна | C31: 30 | D31: 100 | E31: =46289.5554244532 + (VLOOKUP($B$1,TimeZones!$A$1:$C$28,2,FALSE))/24 -> 46289.722 | F31: =46289.5710982485 + (VLOOKUP($B$1,TimeZones!$A$1:$C$28,2,FALSE))/24 -> 46289.738
A32: 19430/edu633737/9/q3729689 | B32: Серазетдинов Ярослав Андреевич | C32: 26 | D32: 100 | E32: =46289.6462508703 + (VLOOKUP($B$1,TimeZones!$A$1:$C$28,2,FALSE))/24 -> 46289.813 | F32: =46289.6698559099 + (VLOOKUP($B$1,TimeZones!$A$1:$C$28,2,FALSE))/24 -> 46289.837
A33: 19430/edu633737/9/v683ww85 | B33: Трофимов Данил Дмитриевич | C33: 25 | D33: 100 | E33: =46289.5084521359 + (VLOOKUP($B$1,TimeZones!$A$1:$C$28,2,FALSE))/24 -> 46289.675 | F33: =46289.5179482518 + (VLOOKUP($B$1,TimeZones!$A$1:$C$28,2,FALSE))/24 -> 46289.685
A34: 19430/edu633737/9/r2849r7v | B34: Максимова Мария Максимовна | C34: 24 | D34: 100 | E34: =46289.5830347006 + (VLOOKUP($B$1,TimeZones!$A$1:$C$28,2,FALSE))/24 -> 46289.75 | F34: =46289.5905389828 + (VLOOKUP($B$1,TimeZones!$A$1:$C$28,2,FALSE))/24 -> 46289.757
A35: 19430/edu633737/9/4z854z7v | B35: Воронко Елизавета Андреевна | C35: 23 | D35: 100 | E35: =46289.7284209972 + (VLOOKUP($B$1,TimeZones!$A$1:$C$28,2,FALSE))/24 -> 46289.895 | F35: =46289.7400887431 + (VLOOKUP($B$1,TimeZones!$A$1:$C$28,2,FALSE))/24 -> 46289.907
A36: 19430/edu633737/9/q47q9w73 | B36: Васильев Кирилл Сергеевич | C36: 20 | D36: 100 | E36: =46289.5301870542 + (VLOOKUP($B$1,TimeZones!$A$1:$C$28,2,FALSE))/24 -> 46289.697 | F36: =46289.5376886652 + (VLOOKUP($B$1,TimeZones!$A$1:$C$28,2,FALSE))/24 -> 46289.704
A37: 19430/edu633737/9/4r8ggq86 | B37: Яготинцев Владимир Александрович | C37: 19 | D37: 100 | E37: =46289.5193368492 + (VLOOKUP($B$1,TimeZones!$A$1:$C$28,2,FALSE))/24 -> 46289.686 | F37: =46289.5212480005 + (VLOOKUP($B$1,TimeZones!$A$1:$C$28,2,FALSE))/24 -> 46289.688

Sheet 19431 Астрономия 10 класс
A1: Часовой пояс | B1: Астрахань (МСК+1, UTC+4)
A3: Код | B3: ФИО | C3: Набранные баллы | D3: Максимальный балл | E3: ="Время начала сессии (" & VLOOKUP($B$1,TimeZones!$A$1:$C$28,3,FALSE) & ")" -> Время начала сессии (Астрахань) | F3: ="Время конца сессии (" & VLOOKUP($B$1,TimeZones!$A$1:$C$28,3,FALSE) & ")" -> Время конца сессии (Астрахань) | G3: Статус | H3: Грамота
A4: 19431/edu633737/10/327wq375 | B4: Тюина Светлана Антоновна | C4: 83 | D4: 100 | E4: =46289.6803776879 + (VLOOKUP($B$1,TimeZones!$A$1:$C$28,2,FALSE))/24 -> 46289.847 | F4: =46289.7095179620 + (VLOOKUP($B$1,TimeZones!$A$1:$C$28,2,FALSE))/24 -> 46289.876
A5: 19431/edu633737/10/r869g26v | B5: Павлова Полина Александровна | C5: 62 | D5: 100 | E5: =46289.6776002895 + (VLOOKUP($B$1,TimeZones!$A$1:$C$28,2,FALSE))/24 -> 46289.844 | F5: =46289.7040101504 + (VLOOKUP($B$1,TimeZones!$A$1:$C$28,2,FALSE))/24 -> 46289.871
A6: 19431/edu633737/10/356q4794 | B6: Завалищина Ирина Александровна | C6: 48 | D6: 100 | E6: =46289.7116662197 + (VLOOKUP($B$1,TimeZones!$A$1:$C$28,2,FALSE))/24 -> 46289.878 | F6: =46289.7408153057 + (VLOOKUP($B$1,TimeZones!$A$1:$C$28,2,FALSE))/24 -> 46289.907
A7: 19431/edu633737/10/g2744q74 | B7: Рыбакова Ксения Владимировна | C7: 48 | D7: 100 | E7: =46289.5941143830 + (VLOOKUP($B$1,TimeZones!$A$1:$C$28,2,FALSE))/24 -> 46289.761 | F7: =46289.6376874903 + (VLOOKUP($B$1,TimeZones!$A$1:$C$28,2,FALSE))/24 -> 46289.804
A8: 19431/edu633737/10/q362w798 | B8: Роговая Софья Сергеевна | C8: 46 | D8: 100 | E8: =46289.5186343504 + (VLOOKUP($B$1,TimeZones!$A$1:$C$28,2,FALSE))/24 -> 46289.685 | F8: =46289.5326194146 + (VLOOKUP($B$1,TimeZones!$A$1:$C$28,2,FALSE))/24 -> 46289.699
A9: 19431/edu633737/10/8r7gq7w2 | B9: Северин Иван Николаевич | C9: 35 | D9: 100 | E9: =46289.6560091108 + (VLOOKUP($B$1,TimeZones!$A$1:$C$28,2,FALSE))/24 -> 46289.823 | F9: =46289.6687078330 + (VLOOKUP($B$1,TimeZones!$A$1:$C$28,2,FALSE))/24 -> 46289.835
A10: 19431/edu633737/10/zr6zwg73 | B10: Степанова София Денисовна | C10: 23 | D10: 100 | E10: =46289.7315844927 + (VLOOKUP($B$1,TimeZones!$A$1:$C$28,2,FALSE))/24 -> 46289.898 | F10: =46289.7500000000 + (VLOOKUP($B$1,TimeZones!$A$1:$C$28,2,FALSE))/24 -> 46289.917
A11: 19431/edu633737/10/g274rq74 | B11: Белюков Никита Андреевич | C11: 17 | D11: 100 | E11: =46289.7212427453 + (VLOOKUP($B$1,TimeZones!$A$1:$C$28,2,FALSE))/24 -> 46289.888 | F11: =46289.7256082423 + (VLOOKUP($B$1,TimeZones!$A$1:$C$28,2,FALSE))/24 -> 46289.892

Sheet 19432 Астрономия 11 класс
A1: Часовой пояс | B1: Астрахань (МСК+1, UTC+4)
A3: Код | B3: ФИО | C3: Набранные баллы | D3: Максимальный балл | E3: ="Время начала сессии (" & VLOOKUP($B$1,TimeZones!$A$1:$C$28,3,FALSE) & ")" -> Время начала сессии (Астрахань) | F3: ="Время конца сессии (" & VLOOKUP($B$1,TimeZones!$A$1:$C$28,3,FALSE) & ")" -> Время конца сессии (Астрахань) | G3: Статус | H3: Грамота
A4: 19432/edu633737/11/326w5v6g | B4: Строков Иван Александрович | C4: 38 | D4: 100 | E4: =46289.5886262364 + (VLOOKUP($B$1,TimeZones!$A$1:$C$28,2,FALSE))/24 -> 46289.755 | F4: =46289.5984207528 + (VLOOKUP($B$1,TimeZones!$A$1:$C$28,2,FALSE))/24 -> 46289.765
A5: 19432/edu633737/11/gr7vq69w | B5: Шамионова Самира Ренатовна | C5: 38 | D5: 100 | E5: =46289.5283420881 + (VLOOKUP($B$1,TimeZones!$A$1:$C$28,2,FALSE))/24 -> 46289.695 | F5: =46289.5436385765 + (VLOOKUP($B$1,TimeZones!$A$1:$C$28,2,FALSE))/24 -> 46289.71
A6: 19432/edu633737/11/q2752z6v | B6: Трячкова Христина Евгеньевна | C6: 29 | D6: 100 | E6: =46289.6720212288 + (VLOOKUP($B$1,TimeZones!$A$1:$C$28,2,FALSE))/24 -> 46289.839 | F6: =46289.6761843188 + (VLOOKUP($B$1,TimeZones!$A$1:$C$28,2,FALSE))/24 -> 46289.843
A7: 19432/edu633737/11/9z6qw64w | B7: Степанов Матвей Андреевич | C7: 25 | D7: 100 | E7: =46289.6453923004 + (VLOOKUP($B$1,TimeZones!$A$1:$C$28,2,FALSE))/24 -> 46289.812 | F7: =46289.6622416744 + (VLOOKUP($B$1,TimeZones!$A$1:$C$28,2,FALSE))/24 -> 46289.829
A8: 19432/edu633737/11/r274rr7w | B8: Добрецова Кира Артемовна | C8: 19 | D8: 100 | E8: =46289.7354944493 + (VLOOKUP($B$1,TimeZones!$A$1:$C$28,2,FALSE))/24 -> 46289.902 | F8: =46289.7500000000 + (VLOOKUP($B$1,TimeZones!$A$1:$C$28,2,FALSE))/24 -> 46289.917

Sheet TimeZones
A1: UTC (МСК-3, UTC) | B1: 0 | C1: UTC
A2: Калининград (МСК-1, UTC+2) | B2: 2 | C2: Калининград
A3: Москва (МСК, UTC+3) | B3: 3 | C3: Москва
A4: Симферополь (МСК, UTC+3) | B4: 3 | C4: Симферополь
A5: Киров (МСК, UTC+3) | B5: 3 | C5: Киров
A6: Волгоград (МСК, UTC+3) | B6: 3 | C6: Волгоград
A7: Астрахань (МСК+1, UTC+4) | B7: 4 | C7: Астрахань
A8: Саратов (МСК+1, UTC+4) | B8: 4 | C8: Саратов
A9: Ульяновск (МСК+1, UTC+4) | B9: 4 | C9: Ульяновск
A10: Самара (МСК+1, UTC+4) | B10: 4 | C10: Самара
A11: Екатеринбург (МСК+2, UTC+5) | B11: 5 | C11: Екатеринбург
A12: Омск (МСК+3, UTC+6) | B12: 6 | C12: Омск
... A28: Анадырь (МСК+9, UTC+12) | B28: 12 | C28: Анадырь
