Workbook

Sheet 19493 Физика 7 класс
A1: Часовой пояс | B1: Астрахань (МСК+1, UTC+4)
A3: Код | B3: ФИО | C3: Набранные баллы | D3: Максимальный балл | E3: ="Время начала сессии (" & VLOOKUP($B$1,TimeZones!$A$1:$C$28,3,FALSE) & ")" -> Время начала сессии (Астрахань) | F3: ="Время конца сессии (" & VLOOKUP($B$1,TimeZones!$A$1:$C$28,3,FALSE) & ")" -> Время конца сессии (Астрахань) | G3: Статус | H3: Грамота
A4: 19493/edu633737/7/82644767 | B4: Жихарев Никита Сергеевич | C4: 28 | D4: 30 | E4: =46296.6323420146 + (VLOOKUP($B$1,TimeZones!$A$1:$C$28,2,FALSE))/24 -> 46296.799 | F4: =46296.6574353942 + (VLOOKUP($B$1,TimeZones!$A$1:$C$28,2,FALSE))/24 -> 46296.824
A5: 19493/edu633737/7/v2wrgz6z | B5: Степанян Аделина Арменовна | C5: 28 | D5: 30 | E5: =46296.7092818876 + (VLOOKUP($B$1,TimeZones!$A$1:$C$28,2,FALSE))/24 -> 46296.876 | F5: =46296.7269818732 + (VLOOKUP($B$1,TimeZones!$A$1:$C$28,2,FALSE))/24 -> 46296.894
A6: 19493/edu633737/7/vrw84rw4 | B6: Завалищина Светлана Владимировна | C6: 17 | D6: 30 | E6: =46296.6104037044 + (VLOOKUP($B$1,TimeZones!$A$1:$C$28,2,FALSE))/24 -> 46296.777 | F6: =46296.6183786325 + (VLOOKUP($B$1,TimeZones!$A$1:$C$28,2,FALSE))/24 -> 46296.785
A7: 19493/edu633737/7/v2wr7z6z | B7: Сильченко Анна Андреевна | C7: 17 | D7: 30 | E7: =46296.6054274031 + (VLOOKUP($B$1,TimeZones!$A$1:$C$28,2,FALSE))/24 -> 46296.772 | F7: =46296.6124882815 + (VLOOKUP($B$1,TimeZones!$A$1:$C$28,2,FALSE))/24 -> 46296.779
A8: 19493/edu633737/7/v4w3v765 | B8: Головатенко Виктория Евгеньевна | C8: 16 | D8: 30 | E8: =46296.6787567743 + (VLOOKUP($B$1,TimeZones!$A$1:$C$28,2,FALSE))/24 -> 46296.845 | F8: =46296.6911112429 + (VLOOKUP($B$1,TimeZones!$A$1:$C$28,2,FALSE))/24 -> 46296.858
A9: 19493/edu633737/7/8rwgzq6q | B9: Зяблова Виктория Сергеевна | C9: 16 | D9: 30 | E9: =46296.5863270202 + (VLOOKUP($B$1,TimeZones!$A$1:$C$28,2,FALSE))/24 -> 46296.753 | F9: =46296.6021554058 + (VLOOKUP($B$1,TimeZones!$A$1:$C$28,2,FALSE))/24 -> 46296.769
A10: 19493/edu633737/7/q36234wz | B10: Поликронов Николай Романович | C10: 16 | D10: 30 | E10: =46296.6144134960 + (VLOOKUP($B$1,TimeZones!$A$1:$C$28,2,FALSE))/24 -> 46296.781 | F10: =46296.6214195679 + (VLOOKUP($B$1,TimeZones!$A$1:$C$28,2,FALSE))/24 -> 46296.788
A11: 19493/edu633737/7/rqw59zw7 | B11: Трячков Николай Евгеньевич | C11: 15 | D11: 30 | E11: =46296.4749628536 + (VLOOKUP($B$1,TimeZones!$A$1:$C$28,2,FALSE))/24 -> 46296.642 | F11: =46296.4813110998 + (VLOOKUP($B$1,TimeZones!$A$1:$C$28,2,FALSE))/24 -> 46296.648
A12: 19493/edu633737/7/93wvvqwz | B12: Евсеева Софья Сергеевна | C12: 14 | D12: 30 | E12: =46296.5889696502 + (VLOOKUP($B$1,TimeZones!$A$1:$C$28,2,FALSE))/24 -> 46296.756 | F12: =46296.6024280658 + (VLOOKUP($B$1,TimeZones!$A$1:$C$28,2,FALSE))/24 -> 46296.769
A13: 19493/edu633737/7/v4w3r765 | B13: Карташёва Алёна Александровна | C13: 14 | D13: 30 | E13: =46296.7081000301 + (VLOOKUP($B$1,TimeZones!$A$1:$C$28,2,FALSE))/24 -> 46296.875 | F13: =46296.7204184730 + (VLOOKUP($B$1,TimeZones!$A$1:$C$28,2,FALSE))/24 -> 46296.887
A14: 19493/edu633737/7/526q776q | B14: Демин Даниэль Арменович | C14: 12 | D14: 30 | E14: =46296.4256993587 + (VLOOKUP($B$1,TimeZones!$A$1:$C$28,2,FALSE))/24 -> 46296.592 | F14: =46296.4398532773 + (VLOOKUP($B$1,TimeZones!$A$1:$C$28,2,FALSE))/24 -> 46296.607
A15: 19493/edu633737/7/q362r46z | B15: Ткачёв Артём Евгеньевич | C15: 12 | D15: 30 | E15: =46296.4354270783 + (VLOOKUP($B$1,TimeZones!$A$1:$C$28,2,FALSE))/24 -> 46296.602 | F15: =46296.4409275903 + (VLOOKUP($B$1,TimeZones!$A$1:$C$28,2,FALSE))/24 -> 46296.608
A16: 19493/edu633737/7/9v6723w8 | B16: Победнова Валерия Анатольевна | C16: 10 | D16: 30 | E16: =46296.6745384111 + (VLOOKUP($B$1,TimeZones!$A$1:$C$28,2,FALSE))/24 -> 46296.841 | F16: =46296.6814048777 + (VLOOKUP($B$1,TimeZones!$A$1:$C$28,2,FALSE))/24 -> 46296.848
A17: 19493/edu633737/7/v2wr2zwz | B17: Касимов Илья Алишерович | C17: 6 | D17: 30 | E17: =46296.6037887994 + (VLOOKUP($B$1,TimeZones!$A$1:$C$28,2,FALSE))/24 -> 46296.77 | F17: =46296.6190779412 + (VLOOKUP($B$1,TimeZones!$A$1:$C$28,2,FALSE))/24 -> 46296.786
A18: 19493/edu633737/7/vrw8rw4q | B18: Султанова Самира Ильдаровна | C18: 2 | D18: 30 | E18: =46296.4180926668 + (VLOOKUP($B$1,TimeZones!$A$1:$C$28,2,FALSE))/24 -> 46296.585 | F18: =46296.4247186036 + (VLOOKUP($B$1,TimeZones!$A$1:$C$28,2,FALSE))/24 -> 46296.591
A19: 19493/edu633737/7/8rwg5qwq | B19: Дьячкова Нина Александр | C19: 1 | D19: 30 | E19: =46296.6372617094 + (VLOOKUP($B$1,TimeZones!$A$1:$C$28,2,FALSE))/24 -> 46296.804 | F19: =46296.6456807352 + (VLOOKUP($B$1,TimeZones!$A$1:$C$28,2,FALSE))/24 -> 46296.812
A20: 19493/edu633737/7/rqw5z673 | B20: Протасов Глеб Сергеевич | C20: 1 | D20: 30 | E20: =46296.7325508863 + (VLOOKUP($B$1,TimeZones!$A$1:$C$28,2,FALSE))/24 -> 46296.899 | F20: =46296.7472159128 + (VLOOKUP($B$1,TimeZones!$A$1:$C$28,2,FALSE))/24 -> 46296.914

Sheet 19494 Физика 8 класс
A1: Часовой пояс | B1: Астрахань (МСК+1, UTC+4)
A3: Код | B3: ФИО | C3: Набранные баллы | D3: Максимальный балл | E3: ="Время начала сессии (" & VLOOKUP($B$1,TimeZones!$A$1:$C$28,3,FALSE) & ")" -> Время начала сессии (Астрахань) | F3: ="Время конца сессии (" & VLOOKUP($B$1,TimeZones!$A$1:$C$28,3,FALSE) & ")" -> Время конца сессии (Астрахань) | G3: Статус | H3: Грамота
A4: 19494/edu633737/8/r4693265 | B4: Бондарь Илья Алексеевич | C4: 28 | D4: 30 | E4: =46296.7083794522 + (VLOOKUP($B$1,TimeZones!$A$1:$C$28,2,FALSE))/24 -> 46296.875 | F4: =46296.7303064231 + (VLOOKUP($B$1,TimeZones!$A$1:$C$28,2,FALSE))/24 -> 46296.897
A5: 19494/edu633737/8/r469r285 | B5: Вишняков Иван Андреевич | C5: 28 | D5: 30 | E5: =46296.7138687388 + (VLOOKUP($B$1,TimeZones!$A$1:$C$28,2,FALSE))/24 -> 46296.881 | F5: =46296.7237617574 + (VLOOKUP($B$1,TimeZones!$A$1:$C$28,2,FALSE))/24 -> 46296.89
A6: 19494/edu633737/8/42847r6g | B6: Шутюркина Полина Алексеева | C6: 28 | D6: 30 | E6: =46296.4621957960 + (VLOOKUP($B$1,TimeZones!$A$1:$C$28,2,FALSE))/24 -> 46296.629 | F6: =46296.4689083168 + (VLOOKUP($B$1,TimeZones!$A$1:$C$28,2,FALSE))/24 -> 46296.636
A7: 19494/edu633737/8/75852z6z | B7: Балин Сергей | C7: 26 | D7: 30 | E7: =46296.6914569598 + (VLOOKUP($B$1,TimeZones!$A$1:$C$28,2,FALSE))/24 -> 46296.858 | F7: =46296.6982674167 + (VLOOKUP($B$1,TimeZones!$A$1:$C$28,2,FALSE))/24 -> 46296.865
A8: 19494/edu633737/8/3q8rz8gr | B8: Юферев Илья Андреевич | C8: 26 | D8: 30 | E8: =46296.6107354130 + (VLOOKUP($B$1,TimeZones!$A$1:$C$28,2,FALSE))/24 -> 46296.777 | F8: =46296.6211817942 + (VLOOKUP($B$1,TimeZones!$A$1:$C$28,2,FALSE))/24 -> 46296.788
A9: 19494/edu633737/8/gr8vvq89 | B9: Алексеев Алексей Алексеевич | C9: 24 | D9: 30 | E9: =46296.5650818445 + (VLOOKUP($B$1,TimeZones!$A$1:$C$28,2,FALSE))/24 -> 46296.732 | F9: =46296.5907415539 + (VLOOKUP($B$1,TimeZones!$A$1:$C$28,2,FALSE))/24 -> 46296.757
A10: 19494/edu633737/8/42849r6g | B10: Голубчиков Павел Александрович | C10: 22 | D10: 30 | E10: =46296.7237565636 + (VLOOKUP($B$1,TimeZones!$A$1:$C$28,2,FALSE))/24 -> 46296.89 | F10: =46296.7385030688 + (VLOOKUP($B$1,TimeZones!$A$1:$C$28,2,FALSE))/24 -> 46296.905
A11: 19494/edu633737/8/4284wr6g | B11: Кнестпяин Артемий Дмитриевич | C11: 22 | D11: 30 | E11: =46296.6372731305 + (VLOOKUP($B$1,TimeZones!$A$1:$C$28,2,FALSE))/24 -> 46296.804 | F11: =46296.6554642235 + (VLOOKUP($B$1,TimeZones!$A$1:$C$28,2,FALSE))/24 -> 46296.822
A12: 19494/edu633737/8/vw83w78g | B12: Степанян Анна Арменовна | C12: 22 | D12: 30 | E12: =46296.6725849405 + (VLOOKUP($B$1,TimeZones!$A$1:$C$28,2,FALSE))/24 -> 46296.839 | F12: =46296.7063913593 + (VLOOKUP($B$1,TimeZones!$A$1:$C$28,2,FALSE))/24 -> 46296.873
A13: 19494/edu633737/8/4r8ggq87 | B13: Фролов Иван Сергеевич | C13: 22 | D13: 30 | E13: =46296.6290940028 + (VLOOKUP($B$1,TimeZones!$A$1:$C$28,2,FALSE))/24 -> 46296.796 | F13: =46296.6431464199 + (VLOOKUP($B$1,TimeZones!$A$1:$C$28,2,FALSE))/24 -> 46296.81
A14: 19494/edu633737/8/356q776v | B14: Шамионова Амина Ренатовна | C14: 20 | D14: 30 | E14: =46296.7071866512 + (VLOOKUP($B$1,TimeZones!$A$1:$C$28,2,FALSE))/24 -> 46296.874 | F14: =46296.7500000000 + (VLOOKUP($B$1,TimeZones!$A$1:$C$28,2,FALSE))/24 -> 46296.917
A15: 19494/edu633737/8/9v672382 | B15: Дмитриев Дмитрий Артемович | C15: 17 | D15: 30 | E15: =46296.6937967992 + (VLOOKUP($B$1,TimeZones!$A$1:$C$28,2,FALSE))/24 -> 46296.86 | F15: =46296.7169788657 + (VLOOKUP($B$1,TimeZones!$A$1:$C$28,2,FALSE))/24 -> 46296.884
A16: 19494/edu633737/8/42844r8g | B16: фомина полина романовна | C16: 17 | D16: 30 | E16: =46296.5066456792 + (VLOOKUP($B$1,TimeZones!$A$1:$C$28,2,FALSE))/24 -> 46296.673 | F16: =46296.5132939748 + (VLOOKUP($B$1,TimeZones!$A$1:$C$28,2,FALSE))/24 -> 46296.68
A17: 19494/edu633737/8/r4695265 | B17: Вьюшкова Софья Александровна | C17: 16 | D17: 30 | E17: =46296.6613767871 + (VLOOKUP($B$1,TimeZones!$A$1:$C$28,2,FALSE))/24 -> 46296.828 | F17: =46296.6861102878 + (VLOOKUP($B$1,TimeZones!$A$1:$C$28,2,FALSE))/24 -> 46296.853
A18: 19494/edu633737/8/7585qz8z | B18: Погодина Милана Максимовна | C18: 16 | D18: 30 | E18: =46296.6903770568 + (VLOOKUP($B$1,TimeZones!$A$1:$C$28,2,FALSE))/24 -> 46296.857 | F18: =46296.7500000000 + (VLOOKUP($B$1,TimeZones!$A$1:$C$28,2,FALSE))/24 -> 46296.917
A19: 19494/edu633737/8/gr8v3q69 | B19: Канцерова Яна Вячеславовна | C19: 14 | D19: 30 | E19: =46296.6383682215 + (VLOOKUP($B$1,TimeZones!$A$1:$C$28,2,FALSE))/24 -> 46296.805 | F19: =46296.6715037619 + (VLOOKUP($B$1,TimeZones!$A$1:$C$28,2,FALSE))/24 -> 46296.838
A20: 19494/edu633737/8/q362rw6z | B20: Ровный Артём Станиславович | C20: 12 | D20: 30 | E20: =46296.4493731170 + (VLOOKUP($B$1,TimeZones!$A$1:$C$28,2,FALSE))/24 -> 46296.616 | F20: =46296.4592254432 + (VLOOKUP($B$1,TimeZones!$A$1:$C$28,2,FALSE))/24 -> 46296.626
A21: 19494/edu633737/8/7585rz6z | B21: исенова алсу мендыгалиевна | C21: 12 | D21: 30 | E21: =46296.5070372521 + (VLOOKUP($B$1,TimeZones!$A$1:$C$28,2,FALSE))/24 -> 46296.674 | F21: =46296.5408014684 + (VLOOKUP($B$1,TimeZones!$A$1:$C$28,2,FALSE))/24 -> 46296.707
A22: 19494/edu633737/8/gr8v2q89 | B22: Белоусова Виктория Владимировна | C22: 11 | D22: 30 | E22: =46296.6343985676 + (VLOOKUP($B$1,TimeZones!$A$1:$C$28,2,FALSE))/24 -> 46296.801 | F22: =46296.6406495402 + (VLOOKUP($B$1,TimeZones!$A$1:$C$28,2,FALSE))/24 -> 46296.807
A23: 19494/edu633737/8/3q8r7z6g | B23: Волков Иван Романович | C23: 11 | D23: 30 | E23: =46296.5410343112 + (VLOOKUP($B$1,TimeZones!$A$1:$C$28,2,FALSE))/24 -> 46296.708 | F23: =46296.5566208631 + (VLOOKUP($B$1,TimeZones!$A$1:$C$28,2,FALSE))/24 -> 46296.723
A24: 19494/edu633737/8/zr6zrg63 | B24: Лапушкина Аня Алексеевна | C24: 9 | D24: 30 | E24: =46296.4758848127 + (VLOOKUP($B$1,TimeZones!$A$1:$C$28,2,FALSE))/24 -> 46296.643 | F24: =46296.5026044804 + (VLOOKUP($B$1,TimeZones!$A$1:$C$28,2,FALSE))/24 -> 46296.669
A25: 19494/edu633737/8/gr8v9q69 | B25: Маркина Анастасия Владимировна | C25: 9 | D25: 30 | E25: =46296.6112405777 + (VLOOKUP($B$1,TimeZones!$A$1:$C$28,2,FALSE))/24 -> 46296.778 | F25: =46296.6231150168 + (VLOOKUP($B$1,TimeZones!$A$1:$C$28,2,FALSE))/24 -> 46296.79
A26: 19494/edu633737/8/356qg76v | B26: Самойлов Арсений Витальевич | C26: 8 | D26: 30 | E26: =46296.6691724192 + (VLOOKUP($B$1,TimeZones!$A$1:$C$28,2,FALSE))/24 -> 46296.836 | F26: =46296.7316724192 + (VLOOKUP($B$1,TimeZones!$A$1:$C$28,2,FALSE))/24 -> 46296.898
A27: 19494/edu633737/8/356q278v | B27: Василькин Степан Максимович | C27: 7 | D27: 30 | E27: =46296.6966837898 + (VLOOKUP($B$1,TimeZones!$A$1:$C$28,2,FALSE))/24 -> 46296.863 | F27: =46296.7018031363 + (VLOOKUP($B$1,TimeZones!$A$1:$C$28,2,FALSE))/24 -> 46296.868
A28: 19494/edu633737/8/vw83r76g | B28: Медведев Макар Андреевич | C28: 7 | D28: 30 | E28: =46296.7033967717 + (VLOOKUP($B$1,TimeZones!$A$1:$C$28,2,FALSE))/24 -> 46296.87 | F28: =46296.7104751513 + (VLOOKUP($B$1,TimeZones!$A$1:$C$28,2,FALSE))/24 -> 46296.877
A29: 19494/edu633737/8/r469g265 | B29: Таджидинов Мухаммадамин Мирсаидович | C29: 7 | D29: 30 | E29: =46296.6389652738 + (VLOOKUP($B$1,TimeZones!$A$1:$C$28,2,FALSE))/24 -> 46296.806 | F29: =46296.6430229871 + (VLOOKUP($B$1,TimeZones!$A$1:$C$28,2,FALSE))/24 -> 46296.81
A30: 19494/edu633737/8/328ww38r | B30: Гребнев Михаил Сергеевич | C30: 6 | D30: 30 | E30: =46296.6178398350 + (VLOOKUP($B$1,TimeZones!$A$1:$C$28,2,FALSE))/24 -> 46296.785 | F30: =46296.6389506396 + (VLOOKUP($B$1,TimeZones!$A$1:$C$28,2,FALSE))/24 -> 46296.806
A31: 19494/edu633737/8/r4692853 | B31: Котельникова София Вячеславовна | C31: 6 | D31: 30 | E31: =46296.6577645628 + (VLOOKUP($B$1,TimeZones!$A$1:$C$28,2,FALSE))/24 -> 46296.824 | F31: =46296.6954442789 + (VLOOKUP($B$1,TimeZones!$A$1:$C$28,2,FALSE))/24 -> 46296.862
A32: 19494/edu633737/8/9v67w362 | B32: Квасова Дарья Алексеевна | C32: 4 | D32: 30 | E32: =46296.7383954567 + (VLOOKUP($B$1,TimeZones!$A$1:$C$28,2,FALSE))/24 -> 46296.905 | F32: =46296.7413376105 + (VLOOKUP($B$1,TimeZones!$A$1:$C$28,2,FALSE))/24 -> 46296.908
A33: 19494/edu633737/8/3q8rvz8g | B33: Князева Софья Александровна | C33: 4 | D33: 30 | E33: =46296.6556512377 + (VLOOKUP($B$1,TimeZones!$A$1:$C$28,2,FALSE))/24 -> 46296.822 | F33: =46296.6682267067 + (VLOOKUP($B$1,TimeZones!$A$1:$C$28,2,FALSE))/24 -> 46296.835
A34: 19494/edu633737/8/zr6zgg83 | B34: Панкратова Анастасия Сергеевна | C34: 4 | D34: 30 | E34: =46296.5423380956 + (VLOOKUP($B$1,TimeZones!$A$1:$C$28,2,FALSE))/24 -> 46296.709 | F34: =46296.5467651633 + (VLOOKUP($B$1,TimeZones!$A$1:$C$28,2,FALSE))/24 -> 46296.713
A35: 19494/edu633737/8/356q76v7 | B35: Салютин Ярослав Александрович | C35: 4 | D35: 30 | E35: =46296.5681124523 + (VLOOKUP($B$1,TimeZones!$A$1:$C$28,2,FALSE))/24 -> 46296.735 | F35: =46296.5810636257 + (VLOOKUP($B$1,TimeZones!$A$1:$C$28,2,FALSE))/24 -> 46296.748
A36: 19494/edu633737/8/75853z8z | B36: Панарин Матвей Павлович | C36: 2 | D36: 30 | E36: =46296.7142165124 + (VLOOKUP($B$1,TimeZones!$A$1:$C$28,2,FALSE))/24 -> 46296.881 | F36: =46296.7206705442 + (VLOOKUP($B$1,TimeZones!$A$1:$C$28,2,FALSE))/24 -> 46296.887
A37: 19494/edu633737/8/4r8gzq67 | B37: Белова София Сергеевна | C37: 0 | D37: 30 | E37: =46296.5586492129 + (VLOOKUP($B$1,TimeZones!$A$1:$C$28,2,FALSE))/24 -> 46296.725 | F37: =46296.5646331333 + (VLOOKUP($B$1,TimeZones!$A$1:$C$28,2,FALSE))/24 -> 46296.731
A38: 19494/edu633737/8/r469q265 | B38: Голяков Алексей Павлович | C38: 0 | D38: 30 | E38: =46296.7495528617 + (VLOOKUP($B$1,TimeZones!$A$1:$C$28,2,FALSE))/24 -> 46296.916 | F38: =46296.7500000000 + (VLOOKUP($B$1,TimeZones!$A$1:$C$28,2,FALSE))/24 -> 46296.917

Sheet 19495 Физика 9 класс
A1: Часовой пояс | B1: Астрахань (МСК+1, UTC+4)
A3: Код | B3: ФИО | C3: Набранные баллы | D3: Максимальный балл | E3: ="Время начала сессии (" & VLOOKUP($B$1,TimeZones!$A$1:$C$28,3,FALSE) & ")" -> Время начала сессии (Астрахань) | F3: ="Время конца сессии (" & VLOOKUP($B$1,TimeZones!$A$1:$C$28,3,FALSE) & ")" -> Время конца сессии (Астрахань) | G3: Статус | H3: Грамота
A4: 19495/edu633737/9/8rwgqw62 | B4: Джафаров Мурад Джавид оглы | C4: 23 | D4: 30 | E4: =46296.5657888930 + (VLOOKUP($B$1,TimeZones!$A$1:$C$28,2,FALSE))/24 -> 46296.732 | F4: =46296.5891987794 + (VLOOKUP($B$1,TimeZones!$A$1:$C$28,2,FALSE))/24 -> 46296.756
A5: 19495/edu633737/9/qr763w3g | B5: Артюхина Злата Сергеевна | C5: 13 | D5: 30 | E5: =46296.6759649872 + (VLOOKUP($B$1,TimeZones!$A$1:$C$28,2,FALSE))/24 -> 46296.843 | F5: =46296.6909062213 + (VLOOKUP($B$1,TimeZones!$A$1:$C$28,2,FALSE))/24 -> 46296.858
A6: 19495/edu633737/9/g479q27r | B6: Трофимов Михаил Дмитриевич | C6: 12 | D6: 30 | E6: =46296.5270600237 + (VLOOKUP($B$1,TimeZones!$A$1:$C$28,2,FALSE))/24 -> 46296.694 | F6: =46296.5608698074 + (VLOOKUP($B$1,TimeZones!$A$1:$C$28,2,FALSE))/24 -> 46296.728
A7: 19495/edu633737/9/g479327r | B7: Васильев Кирилл Сергеевич | C7: 8 | D7: 30 | E7: =46296.5903334236 + (VLOOKUP($B$1,TimeZones!$A$1:$C$28,2,FALSE))/24 -> 46296.757 | F7: =46296.5947163069 + (VLOOKUP($B$1,TimeZones!$A$1:$C$28,2,FALSE))/24 -> 46296.761
A8: 19495/edu633737/9/q372v679 | B8: Шамсутдинова Вероника Ринатовна | C8: 8 | D8: 30 | E8: =46296.6560552076 + (VLOOKUP($B$1,TimeZones!$A$1:$C$28,2,FALSE))/24 -> 46296.823 | F8: =46296.6660112511 + (VLOOKUP($B$1,TimeZones!$A$1:$C$28,2,FALSE))/24 -> 46296.833
A9: 19495/edu633737/9/93wv2qw5 | B9: шамсутдинова диана ринатовна | C9: 6 | D9: 30 | E9: =46296.6581018490 + (VLOOKUP($B$1,TimeZones!$A$1:$C$28,2,FALSE))/24 -> 46296.825 | F9: =46296.6656291883 + (VLOOKUP($B$1,TimeZones!$A$1:$C$28,2,FALSE))/24 -> 46296.832
A10: 19495/edu633737/9/v6w3z475 | B10: Королева Станислава Максимовна | C10: 5 | D10: 30 | E10: =46296.7058704086 + (VLOOKUP($B$1,TimeZones!$A$1:$C$28,2,FALSE))/24 -> 46296.873 | F10: =46296.7259689115 + (VLOOKUP($B$1,TimeZones!$A$1:$C$28,2,FALSE))/24 -> 46296.893
A11: 19495/edu633737/9/v6w34475 | B11: Моисеева Анастасия Денисовна | C11: 3 | D11: 30 | E11: =46296.7285749041 + (VLOOKUP($B$1,TimeZones!$A$1:$C$28,2,FALSE))/24 -> 46296.895 | F11: =46296.7424522393 + (VLOOKUP($B$1,TimeZones!$A$1:$C$28,2,FALSE))/24 -> 46296.909

Sheet 19500 Физика 10 класс
A1: Часовой пояс | B1: Астрахань (МСК+1, UTC+4)
A3: Код | B3: ФИО | C3: Набранные баллы | D3: Максимальный балл | E3: ="Время начала сессии (" & VLOOKUP($B$1,TimeZones!$A$1:$C$28,3,FALSE) & ")" -> Время начала сессии (Астрахань) | F3: ="Время конца сессии (" & VLOOKUP($B$1,TimeZones!$A$1:$C$28,3,FALSE) & ")" -> Время конца сессии (Астрахань) | G3: Статус | H3: Грамота
A4: 19500/edu633737/10/3qwrzwr6 | B4: Белюков Никита Андреевич | C4: 5 | D4: 30 | E4: =46296.5312028366 + (VLOOKUP($B$1,TimeZones!$A$1:$C$28,2,FALSE))/24 -> 46296.698 | F4: =46296.5411222635 + (VLOOKUP($B$1,TimeZones!$A$1:$C$28,2,FALSE))/24 -> 46296.708
A5: 19500/edu633737/10/grwv3q86 | B5: Гребенкин Михаил Александрович | C5: 0 | D5: 30 | E5: =46296.6723472486 + (VLOOKUP($B$1,TimeZones!$A$1:$C$28,2,FALSE))/24 -> 46296.839 | F5: =46296.6827319186 + (VLOOKUP($B$1,TimeZones!$A$1:$C$28,2,FALSE))/24 -> 46296.849

Sheet 19503 Физика 11 класс
A1: Часовой пояс | B1: Астрахань (МСК+1, UTC+4)
A3: Код | B3: ФИО | C3: Набранные баллы | D3: Максимальный балл | E3: ="Время начала сессии (" & VLOOKUP($B$1,TimeZones!$A$1:$C$28,3,FALSE) & ")" -> Время начала сессии (Астрахань) | F3: ="Время конца сессии (" & VLOOKUP($B$1,TimeZones!$A$1:$C$28,3,FALSE) & ")" -> Время конца сессии (Астрахань) | G3: Статус | H3: Грамота
A4: 19503/edu633737/11/327w3v75 | B4: Шангареев Илья Ильшатович | C4: 21 | D4: 30 | E4: =46296.6962992960 + (VLOOKUP($B$1,TimeZones!$A$1:$C$28,2,FALSE))/24 -> 46296.863 | F4: =46296.6996426568 + (VLOOKUP($B$1,TimeZones!$A$1:$C$28,2,FALSE))/24 -> 46296.866
A5: 19503/edu633737/11/wr68wr7q | B5: Гаврилов Даниил Дмитриевич | C5: 16 | D5: 30 | E5: =46296.6701676865 + (VLOOKUP($B$1,TimeZones!$A$1:$C$28,2,FALSE))/24 -> 46296.837 | F5: =46296.7159613979 + (VLOOKUP($B$1,TimeZones!$A$1:$C$28,2,FALSE))/24 -> 46296.883
A6: 19503/edu633737/11/936v3q7z | B6: Мусатов Сергей Александрович | C6: 12 | D6: 30 | E6: =46296.6884563532 + (VLOOKUP($B$1,TimeZones!$A$1:$C$28,2,FALSE))/24 -> 46296.855 | F6: =46296.7343489308 + (VLOOKUP($B$1,TimeZones!$A$1:$C$28,2,FALSE))/24 -> 46296.901
A7: 19503/edu633737/11/v463ww6r | B7: Гордеев Женя Александрович | C7: 10 | D7: 30 | E7: =46296.6790783806 + (VLOOKUP($B$1,TimeZones!$A$1:$C$28,2,FALSE))/24 -> 46296.846 | F7: =46296.6870361666 + (VLOOKUP($B$1,TimeZones!$A$1:$C$28,2,FALSE))/24 -> 46296.854
A8: 19503/edu633737/11/8r6gzq74 | B8: Степанов Матвей Андреевич | C8: 6 | D8: 30 | E8: =46296.6772861999 + (VLOOKUP($B$1,TimeZones!$A$1:$C$28,2,FALSE))/24 -> 46296.844 | F8: =46296.7397861999 + (VLOOKUP($B$1,TimeZones!$A$1:$C$28,2,FALSE))/24 -> 46296.906
A9: 19503/edu633737/11/wq795278 | B9: Фролов Арсений Юрьевич | C9: 2 | D9: 30 | E9: =46296.6072549041 + (VLOOKUP($B$1,TimeZones!$A$1:$C$28,2,FALSE))/24 -> 46296.774 | F9: =46296.6131981457 + (VLOOKUP($B$1,TimeZones!$A$1:$C$28,2,FALSE))/24 -> 46296.78

Sheet TimeZones
A1: UTC (МСК-3, UTC) | B1: 0 | C1: UTC
A2: Калининград (МСК-1, UTC+2) | B2: 2 | C2: Калининград
A3: Москва (МСК, UTC+3) | B3: 3 | C3: Москва
A4: Симферополь (МСК, UTC+3) | B4: 3 | C4: Симферополь
A5: Киров (МСК, UTC+3) | B5: 3 | C5: Киров
A6: Волгоград (МСК, UTC+3) | B6: 3 | C6: Волгоград
A7: Астрахань (МСК+1, UTC+4) | B7: 4 | C7: Астрахань
A8: Саратов (МСК+1, UTC+4) | B8: 4 | C8: Саратов
A9: Ульяновск (МСК+1, UTC+4) | B9: 4 | C9: Ульяновск
A10: Самара (МСК+1, UTC+4) | B10: 4 | C10: Самара
A11: Екатеринбург (МСК+2, UTC+5) | B11: 5 | C11: Екатеринбург
A12: Омск (МСК+3, UTC+6) | B12: 6 | C12: Омск
... A28: Анадырь (МСК+9, UTC+12) | B28: 12 | C28: Анадырь
